BEGIN:VCALENDAR
VERSION:2.0
PRODID:-//Ons Eigen Gebouw Buurmalsen - ECPv6.0.3.1//NONSGML v1.0//EN
CALSCALE:GREGORIAN
METHOD:PUBLISH
X-WR-CALNAME:Ons Eigen Gebouw Buurmalsen
X-ORIGINAL-URL:https://www.onseigengebouw.nl
X-WR-CALDESC:Evenementen voor Ons Eigen Gebouw Buurmalsen
REFRESH-INTERVAL;VALUE=DURATION:PT1H
X-Robots-Tag:noindex
X-PUBLISHED-TTL:PT1H
BEGIN:VTIMEZONE
TZID:UTC
BEGIN:STANDARD
TZOFFSETFROM:+0000
TZOFFSETTO:+0000
TZNAME:UTC
DTSTART:20250101T000000
END:STANDARD
END:VTIMEZONE
BEGIN:VEVENT
DTSTART;TZID=UTC:20251201T093000
DTEND;TZID=UTC:20251201T103000
DTSTAMP:20260419T123555
CREATED:20251103T113525Z
LAST-MODIFIED:20251103T113525Z
UID:1804-1764581400-1764585000@www.onseigengebouw.nl
SUMMARY:Gymclub
DESCRIPTION:
URL:https://www.onseigengebouw.nl/agenda/gymclub-56/
END:VEVENT
BEGIN:VEVENT
DTSTART;TZID=UTC:20251202T140000
DTEND;TZID=UTC:20251202T170000
DTSTAMP:20260419T123555
CREATED:20250912T171717Z
LAST-MODIFIED:20250912T171717Z
UID:1691-1764684000-1764694800@www.onseigengebouw.nl
SUMMARY:Soos 60+ Buurmalsen
DESCRIPTION:
URL:https://www.onseigengebouw.nl/agenda/soos-60-buurmalsen-3/
END:VEVENT
BEGIN:VEVENT
DTSTART;TZID=UTC:20251204T193000
DTEND;TZID=UTC:20251204T233000
DTSTAMP:20260419T123555
CREATED:20250912T171240Z
LAST-MODIFIED:20250912T171240Z
UID:1681-1764876600-1764891000@www.onseigengebouw.nl
SUMMARY:Bridgeclub Geldermalsen
DESCRIPTION:
URL:https://www.onseigengebouw.nl/agenda/bridgeclub-geldermalsen-112/
END:VEVENT
BEGIN:VEVENT
DTSTART;TZID=UTC:20251208T093000
DTEND;TZID=UTC:20251208T103000
DTSTAMP:20260419T123555
CREATED:20251103T113538Z
LAST-MODIFIED:20251103T113538Z
UID:1806-1765186200-1765189800@www.onseigengebouw.nl
SUMMARY:Gymclub
DESCRIPTION:
URL:https://www.onseigengebouw.nl/agenda/gymclub-57/
END:VEVENT
BEGIN:VEVENT
DTSTART;TZID=UTC:20251211T193000
DTEND;TZID=UTC:20251211T233000
DTSTAMP:20260419T123555
CREATED:20250912T171257Z
LAST-MODIFIED:20250912T171257Z
UID:1683-1765481400-1765495800@www.onseigengebouw.nl
SUMMARY:Bridgeclub Geldermalsen
DESCRIPTION:
URL:https://www.onseigengebouw.nl/agenda/bridgeclub-geldermalsen-113/
END:VEVENT
BEGIN:VEVENT
DTSTART;TZID=UTC:20251214T140000
DTEND;TZID=UTC:20251214T170000
DTSTAMP:20260419T123555
CREATED:20250912T172430Z
LAST-MODIFIED:20250912T172430Z
UID:1697-1765720800-1765731600@www.onseigengebouw.nl
SUMMARY:Smartlappenkoor repetitie
DESCRIPTION:
URL:https://www.onseigengebouw.nl/agenda/smartlappenkoor-repetitie/
END:VEVENT
BEGIN:VEVENT
DTSTART;TZID=UTC:20251215T093000
DTEND;TZID=UTC:20251215T103000
DTSTAMP:20260419T123555
CREATED:20251103T113554Z
LAST-MODIFIED:20251103T113554Z
UID:1808-1765791000-1765794600@www.onseigengebouw.nl
SUMMARY:Gymclub
DESCRIPTION:
URL:https://www.onseigengebouw.nl/agenda/gymclub-58/
END:VEVENT
BEGIN:VEVENT
DTSTART;TZID=UTC:20251215T200000
DTEND;TZID=UTC:20251215T220000
DTSTAMP:20260419T123555
CREATED:20250912T181445Z
LAST-MODIFIED:20250912T181445Z
UID:1726-1765828800-1765836000@www.onseigengebouw.nl
SUMMARY:Schietclub oefenavond
DESCRIPTION:
URL:https://www.onseigengebouw.nl/agenda/schietclub-oefenavond-6/
END:VEVENT
BEGIN:VEVENT
DTSTART;TZID=UTC:20251216T160000
DTEND;TZID=UTC:20251216T213000
DTSTAMP:20260419T123555
CREATED:20250930T154854Z
LAST-MODIFIED:20250930T154854Z
UID:1759-1765900800-1765920600@www.onseigengebouw.nl
SUMMARY:Kerstfeest van de soos
DESCRIPTION:
URL:https://www.onseigengebouw.nl/agenda/kerstfeest-van-de-soos-2/
END:VEVENT
BEGIN:VEVENT
DTSTART;TZID=UTC:20251217T100000
DTEND;TZID=UTC:20251217T120000
DTSTAMP:20260419T123555
CREATED:20250912T173327Z
LAST-MODIFIED:20250912T173327Z
UID:1708-1765965600-1765972800@www.onseigengebouw.nl
SUMMARY:Koffie inloop ochtend
DESCRIPTION:
URL:https://www.onseigengebouw.nl/agenda/koffie-inloop-ochtend-24/
END:VEVENT
BEGIN:VEVENT
DTSTART;TZID=UTC:20251218T193000
DTEND;TZID=UTC:20251218T233000
DTSTAMP:20260419T123555
CREATED:20250912T171318Z
LAST-MODIFIED:20250912T171318Z
UID:1685-1766086200-1766100600@www.onseigengebouw.nl
SUMMARY:Bridgeclub Geldermalsen
DESCRIPTION:Bridgeclub Geldermalsen
URL:https://www.onseigengebouw.nl/agenda/bridgeclub-geldermalsen-114/
END:VEVENT
BEGIN:VEVENT
DTSTART;TZID=UTC:20251222T093000
DTEND;TZID=UTC:20251222T103000
DTSTAMP:20260419T123555
CREATED:20251103T113613Z
LAST-MODIFIED:20251103T113613Z
UID:1810-1766395800-1766399400@www.onseigengebouw.nl
SUMMARY:Gymclub
DESCRIPTION:
URL:https://www.onseigengebouw.nl/agenda/gymclub-59/
END:VEVENT
BEGIN:VEVENT
DTSTART;TZID=UTC:20251222T200000
DTEND;TZID=UTC:20251222T220000
DTSTAMP:20260419T123555
CREATED:20250912T181501Z
LAST-MODIFIED:20250912T181501Z
UID:1728-1766433600-1766440800@www.onseigengebouw.nl
SUMMARY:Schietclub oefenavond
DESCRIPTION:
URL:https://www.onseigengebouw.nl/agenda/schietclub-oefenavond-7/
END:VEVENT
END:VCALENDAR