BEGIN:VCALENDAR
VERSION:2.0
PRODID:-//Ons Eigen Gebouw Buurmalsen - ECPv6.0.3.1//NONSGML v1.0//EN
CALSCALE:GREGORIAN
METHOD:PUBLISH
X-WR-CALNAME:Ons Eigen Gebouw Buurmalsen
X-ORIGINAL-URL:https://www.onseigengebouw.nl
X-WR-CALDESC:Evenementen voor Ons Eigen Gebouw Buurmalsen
REFRESH-INTERVAL;VALUE=DURATION:PT1H
X-Robots-Tag:noindex
X-PUBLISHED-TTL:PT1H
BEGIN:VTIMEZONE
TZID:UTC
BEGIN:STANDARD
TZOFFSETFROM:+0000
TZOFFSETTO:+0000
TZNAME:UTC
DTSTART:20240101T000000
END:STANDARD
END:VTIMEZONE
BEGIN:VEVENT
DTSTART;TZID=UTC:20240304T183000
DTEND;TZID=UTC:20240304T193000
DTSTAMP:20260422T124543
CREATED:20240205T111935Z
LAST-MODIFIED:20240205T111935Z
UID:1120-1709577000-1709580600@www.onseigengebouw.nl
SUMMARY:Ledenvergadering Oranjevereniging Buurmalsen
DESCRIPTION:
URL:https://www.onseigengebouw.nl/agenda/ledenvergadering-oranjevereniging-buurmalsen/
END:VEVENT
BEGIN:VEVENT
DTSTART;TZID=UTC:20240306T193000
DTEND;TZID=UTC:20240306T213000
DTSTAMP:20260422T124543
CREATED:20240124T142140Z
LAST-MODIFIED:20240124T142140Z
UID:1094-1709753400-1709760600@www.onseigengebouw.nl
SUMMARY:Repetitie koorband
DESCRIPTION:
URL:https://www.onseigengebouw.nl/agenda/repetitie-koorband-6/
ATTACH;FMTTYPE=image/jpeg:https://www.onseigengebouw.nl/wp-content/uploads/2019/03/losbandigsysteem.jpg
END:VEVENT
BEGIN:VEVENT
DTSTART;TZID=UTC:20240307T193000
DTEND;TZID=UTC:20240307T233000
DTSTAMP:20260422T124543
CREATED:20240124T135000Z
LAST-MODIFIED:20240124T135000Z
UID:1076-1709839800-1709854200@www.onseigengebouw.nl
SUMMARY:Bridgeclub Geldermalsen
DESCRIPTION:
URL:https://www.onseigengebouw.nl/agenda/bridgeclub-geldermalsen-35/
END:VEVENT
BEGIN:VEVENT
DTSTART;TZID=UTC:20240310T140000
DTEND;TZID=UTC:20240310T173000
DTSTAMP:20260422T124543
CREATED:20240124T142307Z
LAST-MODIFIED:20240124T142307Z
UID:1096-1710079200-1710091800@www.onseigengebouw.nl
SUMMARY:Repetitie Losbandig Systeem smartlappenkoor
DESCRIPTION:
URL:https://www.onseigengebouw.nl/agenda/repetitie-losbandig-systeem-smartlappenkoor/
ATTACH;FMTTYPE=image/jpeg:https://www.onseigengebouw.nl/wp-content/uploads/2019/03/losbandigsysteem.jpg
END:VEVENT
BEGIN:VEVENT
DTSTART;TZID=UTC:20240314T193000
DTEND;TZID=UTC:20240314T233000
DTSTAMP:20260422T124543
CREATED:20240124T135105Z
LAST-MODIFIED:20240124T135105Z
UID:1078-1710444600-1710459000@www.onseigengebouw.nl
SUMMARY:Bridgeclub Geldermalsen
DESCRIPTION:
URL:https://www.onseigengebouw.nl/agenda/bridgeclub-geldermalsen-36/
END:VEVENT
BEGIN:VEVENT
DTSTART;TZID=UTC:20240320T100000
DTEND;TZID=UTC:20240320T120000
DTSTAMP:20260422T124543
CREATED:20240124T142424Z
LAST-MODIFIED:20240124T142424Z
UID:1098-1710928800-1710936000@www.onseigengebouw.nl
SUMMARY:Koffie inloop ochtend
DESCRIPTION:
URL:https://www.onseigengebouw.nl/agenda/koffie-inloop-ochtend-11/
ATTACH;FMTTYPE=image/jpeg:https://www.onseigengebouw.nl/wp-content/uploads/2019/05/koffie-OEG.jpg
END:VEVENT
BEGIN:VEVENT
DTSTART;TZID=UTC:20240321T193000
DTEND;TZID=UTC:20240321T233000
DTSTAMP:20260422T124543
CREATED:20240124T135134Z
LAST-MODIFIED:20240124T135134Z
UID:1080-1711049400-1711063800@www.onseigengebouw.nl
SUMMARY:Bridgeclub Geldermalsen
DESCRIPTION:
URL:https://www.onseigengebouw.nl/agenda/bridgeclub-geldermalsen-37/
END:VEVENT
BEGIN:VEVENT
DTSTART;TZID=UTC:20240328T193000
DTEND;TZID=UTC:20240328T233000
DTSTAMP:20260422T124543
CREATED:20240124T135200Z
LAST-MODIFIED:20240124T135200Z
UID:1082-1711654200-1711668600@www.onseigengebouw.nl
SUMMARY:Bridgeclub Geldermalsen
DESCRIPTION:
URL:https://www.onseigengebouw.nl/agenda/bridgeclub-geldermalsen-38/
END:VEVENT
END:VCALENDAR