BEGIN:VCALENDAR
VERSION:2.0
PRODID:-//Ons Eigen Gebouw Buurmalsen - ECPv6.0.3.1//NONSGML v1.0//EN
CALSCALE:GREGORIAN
METHOD:PUBLISH
X-ORIGINAL-URL:https://www.onseigengebouw.nl
X-WR-CALDESC:Evenementen voor Ons Eigen Gebouw Buurmalsen
REFRESH-INTERVAL;VALUE=DURATION:PT1H
X-Robots-Tag:noindex
X-PUBLISHED-TTL:PT1H
BEGIN:VTIMEZONE
TZID:UTC
BEGIN:STANDARD
TZOFFSETFROM:+0000
TZOFFSETTO:+0000
TZNAME:UTC
DTSTART:20230101T000000
END:STANDARD
END:VTIMEZONE
BEGIN:VEVENT
DTSTART;TZID=UTC:20230902T100000
DTEND;TZID=UTC:20230902T110000
DTSTAMP:20260422T080106
CREATED:20230703T151148Z
LAST-MODIFIED:20230703T151148Z
UID:816-1693648800-1693652400@www.onseigengebouw.nl
SUMMARY:Afvalbrigade
DESCRIPTION:
URL:https://www.onseigengebouw.nl/agenda/afvalbrigade/
END:VEVENT
BEGIN:VEVENT
DTSTART;TZID=UTC:20230904T093000
DTEND;TZID=UTC:20230904T103000
DTSTAMP:20260422T080106
CREATED:20230703T150600Z
LAST-MODIFIED:20230703T150620Z
UID:794-1693819800-1693823400@www.onseigengebouw.nl
SUMMARY:Gymclub KeepFit
DESCRIPTION:
URL:https://www.onseigengebouw.nl/agenda/gymclub-keepfit-10/
END:VEVENT
BEGIN:VEVENT
DTSTART;TZID=UTC:20230905T140000
DTEND;TZID=UTC:20230905T170000
DTSTAMP:20260422T080106
CREATED:20230703T151241Z
LAST-MODIFIED:20230703T151241Z
UID:818-1693922400-1693933200@www.onseigengebouw.nl
SUMMARY:Bijeenkomst Soos
DESCRIPTION:
URL:https://www.onseigengebouw.nl/agenda/bijeenkomst-soos/
END:VEVENT
BEGIN:VEVENT
DTSTART;TZID=UTC:20230905T190000
DTEND;TZID=UTC:20230905T230000
DTSTAMP:20260422T080106
CREATED:20230713T121257Z
LAST-MODIFIED:20230713T121257Z
UID:863-1693940400-1693954800@www.onseigengebouw.nl
SUMMARY:Bijeenkomst Gemeente West-Betuwe
DESCRIPTION:
URL:https://www.onseigengebouw.nl/agenda/bijeenkomst-gemeente-west-betuwe/
END:VEVENT
BEGIN:VEVENT
DTSTART;TZID=UTC:20230906T193000
DTEND;TZID=UTC:20230906T213000
DTSTAMP:20260422T080106
CREATED:20230703T151317Z
LAST-MODIFIED:20230703T151317Z
UID:820-1694028600-1694035800@www.onseigengebouw.nl
SUMMARY:Repetitie koorband
DESCRIPTION:
URL:https://www.onseigengebouw.nl/agenda/repetitie-koorband-4/
END:VEVENT
BEGIN:VEVENT
DTSTART;TZID=UTC:20230907T193000
DTEND;TZID=UTC:20230907T230000
DTSTAMP:20260422T080106
CREATED:20230703T150920Z
LAST-MODIFIED:20230703T150920Z
UID:806-1694115000-1694127600@www.onseigengebouw.nl
SUMMARY:Bridgeclub Geldermalsen
DESCRIPTION:
URL:https://www.onseigengebouw.nl/agenda/bridgeclub-geldermalsen-11/
END:VEVENT
BEGIN:VEVENT
DTSTART;TZID=UTC:20230910T140000
DTEND;TZID=UTC:20230910T170000
DTSTAMP:20260422T080106
CREATED:20230703T151355Z
LAST-MODIFIED:20230703T151355Z
UID:822-1694354400-1694365200@www.onseigengebouw.nl
SUMMARY:Repetitie smartlappenkoor
DESCRIPTION:
URL:https://www.onseigengebouw.nl/agenda/repetitie-smartlappenkoor/
END:VEVENT
BEGIN:VEVENT
DTSTART;TZID=UTC:20230911T093000
DTEND;TZID=UTC:20230911T103000
DTSTAMP:20260422T080106
CREATED:20230703T150754Z
LAST-MODIFIED:20230703T150754Z
UID:800-1694424600-1694428200@www.onseigengebouw.nl
SUMMARY:Gymclub KeepFit
DESCRIPTION:
URL:https://www.onseigengebouw.nl/agenda/gymclub-keepfit-13/
END:VEVENT
BEGIN:VEVENT
DTSTART;TZID=UTC:20230914T193000
DTEND;TZID=UTC:20230914T230000
DTSTAMP:20260422T080106
CREATED:20230703T150941Z
LAST-MODIFIED:20230703T150941Z
UID:808-1694719800-1694732400@www.onseigengebouw.nl
SUMMARY:Bridgeclub Geldermalsen
DESCRIPTION:
URL:https://www.onseigengebouw.nl/agenda/bridgeclub-geldermalsen-12/
END:VEVENT
BEGIN:VEVENT
DTSTART;TZID=UTC:20230918T093000
DTEND;TZID=UTC:20230918T103000
DTSTAMP:20260422T080106
CREATED:20230703T150813Z
LAST-MODIFIED:20230703T150813Z
UID:802-1695029400-1695033000@www.onseigengebouw.nl
SUMMARY:Gymclub KeepFit
DESCRIPTION:
URL:https://www.onseigengebouw.nl/agenda/gymclub-keepfit-14/
END:VEVENT
BEGIN:VEVENT
DTSTART;TZID=UTC:20230920T100000
DTEND;TZID=UTC:20230920T120000
DTSTAMP:20260422T080106
CREATED:20230703T155037Z
LAST-MODIFIED:20230703T155037Z
UID:858-1695204000-1695211200@www.onseigengebouw.nl
SUMMARY:Koffie inloop ochtend
DESCRIPTION:
URL:https://www.onseigengebouw.nl/agenda/koffie-inloop-ochtend-6/
END:VEVENT
BEGIN:VEVENT
DTSTART;TZID=UTC:20230921T193000
DTEND;TZID=UTC:20230921T230000
DTSTAMP:20260422T080106
CREATED:20230703T151000Z
LAST-MODIFIED:20230703T151000Z
UID:810-1695324600-1695337200@www.onseigengebouw.nl
SUMMARY:Bridgeclub Geldermalsen
DESCRIPTION:
URL:https://www.onseigengebouw.nl/agenda/bridgeclub-geldermalsen-13/
END:VEVENT
BEGIN:VEVENT
DTSTART;TZID=UTC:20230925T093000
DTEND;TZID=UTC:20230925T103000
DTSTAMP:20260422T080106
CREATED:20230703T150839Z
LAST-MODIFIED:20230703T150839Z
UID:804-1695634200-1695637800@www.onseigengebouw.nl
SUMMARY:Gymclub KeepFit
DESCRIPTION:
URL:https://www.onseigengebouw.nl/agenda/gymclub-keepfit-15/
END:VEVENT
BEGIN:VEVENT
DTSTART;TZID=UTC:20230928T193000
DTEND;TZID=UTC:20230928T230000
DTSTAMP:20260422T080106
CREATED:20230703T151048Z
LAST-MODIFIED:20230703T151048Z
UID:814-1695929400-1695942000@www.onseigengebouw.nl
SUMMARY:Bridgeclub Geldermalsen
DESCRIPTION:
URL:https://www.onseigengebouw.nl/agenda/bridgeclub-geldermalsen-15/
END:VEVENT
BEGIN:VEVENT
DTSTART;TZID=UTC:20230930T190000
DTEND;TZID=UTC:20230930T223000
DTSTAMP:20260422T080106
CREATED:20230713T121326Z
LAST-MODIFIED:20230713T121326Z
UID:865-1696100400-1696113000@www.onseigengebouw.nl
SUMMARY:Dorpsquiz Geldermalsen
DESCRIPTION:
URL:https://www.onseigengebouw.nl/agenda/dorpsquiz-geldermalsen/
END:VEVENT
END:VCALENDAR