BEGIN:VCALENDAR
VERSION:2.0
PRODID:-//Ons Eigen Gebouw Buurmalsen - ECPv6.0.3.1//NONSGML v1.0//EN
CALSCALE:GREGORIAN
METHOD:PUBLISH
X-WR-CALNAME:Ons Eigen Gebouw Buurmalsen
X-ORIGINAL-URL:https://www.onseigengebouw.nl
X-WR-CALDESC:Evenementen voor Ons Eigen Gebouw Buurmalsen
REFRESH-INTERVAL;VALUE=DURATION:PT1H
X-Robots-Tag:noindex
X-PUBLISHED-TTL:PT1H
BEGIN:VTIMEZONE
TZID:UTC
BEGIN:STANDARD
TZOFFSETFROM:+0000
TZOFFSETTO:+0000
TZNAME:UTC
DTSTART:20230101T000000
END:STANDARD
END:VTIMEZONE
BEGIN:VEVENT
DTSTART;TZID=UTC:20230601T193000
DTEND;TZID=UTC:20230601T193000
DTSTAMP:20260422T113729
CREATED:20230327T133350Z
LAST-MODIFIED:20230327T133350Z
UID:732-1685647800-1685647800@www.onseigengebouw.nl
SUMMARY:Bridgeclub
DESCRIPTION:
URL:https://www.onseigengebouw.nl/agenda/bridgeclub-15/
END:VEVENT
BEGIN:VEVENT
DTSTART;TZID=UTC:20230605T093000
DTEND;TZID=UTC:20230605T170000
DTSTAMP:20260422T113729
CREATED:20230327T135125Z
LAST-MODIFIED:20230327T135125Z
UID:780-1685957400-1685984400@www.onseigengebouw.nl
SUMMARY:Gymclub Keep-Fit
DESCRIPTION:
URL:https://www.onseigengebouw.nl/agenda/gymclub-keep-fit-6/
END:VEVENT
BEGIN:VEVENT
DTSTART;TZID=UTC:20230606T140000
DTEND;TZID=UTC:20230606T170000
DTSTAMP:20260422T113729
CREATED:20230327T134319Z
LAST-MODIFIED:20230327T134319Z
UID:766-1686060000-1686070800@www.onseigengebouw.nl
SUMMARY:Bijeenkomst ouderen Soos
DESCRIPTION:
URL:https://www.onseigengebouw.nl/agenda/bijeenkomst-ouderen-soos-4/
END:VEVENT
BEGIN:VEVENT
DTSTART;TZID=UTC:20230608T193000
DTEND;TZID=UTC:20230608T193000
DTSTAMP:20260422T113729
CREATED:20230327T133409Z
LAST-MODIFIED:20230327T133409Z
UID:734-1686252600-1686252600@www.onseigengebouw.nl
SUMMARY:Bridgeclub
DESCRIPTION:
URL:https://www.onseigengebouw.nl/agenda/bridgeclub-16/
END:VEVENT
BEGIN:VEVENT
DTSTART;TZID=UTC:20230611T140000
DTEND;TZID=UTC:20230611T170000
DTSTAMP:20260422T113729
CREATED:20230327T134240Z
LAST-MODIFIED:20230327T134240Z
UID:764-1686492000-1686502800@www.onseigengebouw.nl
SUMMARY:Repetitie Losbandig Systeem
DESCRIPTION:
URL:https://www.onseigengebouw.nl/agenda/repetitie-losbandig-systeem-2/
END:VEVENT
BEGIN:VEVENT
DTSTART;TZID=UTC:20230612T093000
DTEND;TZID=UTC:20230612T170000
DTSTAMP:20260422T113729
CREATED:20230327T135142Z
LAST-MODIFIED:20230327T135142Z
UID:782-1686562200-1686589200@www.onseigengebouw.nl
SUMMARY:Gymclub Keep-Fit
DESCRIPTION:
URL:https://www.onseigengebouw.nl/agenda/gymclub-keep-fit-7/
END:VEVENT
BEGIN:VEVENT
DTSTART;TZID=UTC:20230612T193000
DTEND;TZID=UTC:20230612T193000
DTSTAMP:20260422T113730
CREATED:20230327T133727Z
LAST-MODIFIED:20230330T195804Z
UID:754-1686598200-1686598200@www.onseigengebouw.nl
SUMMARY:Bijeenkomst duurzaam West-Betuwe
DESCRIPTION:
URL:https://www.onseigengebouw.nl/agenda/bijeenkomst-duurzaam-west-betuwe/
END:VEVENT
BEGIN:VEVENT
DTSTART;TZID=UTC:20230615T193000
DTEND;TZID=UTC:20230615T193000
DTSTAMP:20260422T113730
CREATED:20230327T133427Z
LAST-MODIFIED:20230327T133427Z
UID:736-1686857400-1686857400@www.onseigengebouw.nl
SUMMARY:Bridgeclub
DESCRIPTION:
URL:https://www.onseigengebouw.nl/agenda/bridgeclub-17/
END:VEVENT
BEGIN:VEVENT
DTSTART;TZID=UTC:20230619T093000
DTEND;TZID=UTC:20230619T170000
DTSTAMP:20260422T113730
CREATED:20230327T135155Z
LAST-MODIFIED:20230327T135155Z
UID:784-1687167000-1687194000@www.onseigengebouw.nl
SUMMARY:Gymclub Keep-Fit
DESCRIPTION:
URL:https://www.onseigengebouw.nl/agenda/gymclub-keep-fit-8/
END:VEVENT
END:VCALENDAR