BEGIN:VCALENDAR
VERSION:2.0
PRODID:-//Ons Eigen Gebouw Buurmalsen - ECPv6.0.3.1//NONSGML v1.0//EN
CALSCALE:GREGORIAN
METHOD:PUBLISH
X-ORIGINAL-URL:https://www.onseigengebouw.nl
X-WR-CALDESC:Evenementen voor Ons Eigen Gebouw Buurmalsen
REFRESH-INTERVAL;VALUE=DURATION:PT1H
X-Robots-Tag:noindex
X-PUBLISHED-TTL:PT1H
BEGIN:VTIMEZONE
TZID:UTC
BEGIN:STANDARD
TZOFFSETFROM:+0000
TZOFFSETTO:+0000
TZNAME:UTC
DTSTART:20230101T000000
END:STANDARD
END:VTIMEZONE
BEGIN:VEVENT
DTSTART;TZID=UTC:20230302T193000
DTEND;TZID=UTC:20230302T193000
DTSTAMP:20260422T152101
CREATED:20230112T185458Z
LAST-MODIFIED:20230112T190227Z
UID:620-1677785400-1677785400@www.onseigengebouw.nl
SUMMARY:Bridgeclub
DESCRIPTION:
URL:https://www.onseigengebouw.nl/agenda/bridgeclub-6/
END:VEVENT
BEGIN:VEVENT
DTSTART;TZID=UTC:20230306T093000
DTEND;TZID=UTC:20230306T103000
DTSTAMP:20260422T152101
CREATED:20230223T140019Z
LAST-MODIFIED:20230223T140019Z
UID:674-1678095000-1678098600@www.onseigengebouw.nl
SUMMARY:Gymclub KeepFit
DESCRIPTION:
URL:https://www.onseigengebouw.nl/agenda/gymclub-keepfit-5/
END:VEVENT
BEGIN:VEVENT
DTSTART;TZID=UTC:20230307T140000
DTEND;TZID=UTC:20230307T170000
DTSTAMP:20260422T152101
CREATED:20230112T185111Z
LAST-MODIFIED:20230112T185111Z
UID:606-1678197600-1678208400@www.onseigengebouw.nl
SUMMARY:Bijeenkomst ouderen soos
DESCRIPTION:
URL:https://www.onseigengebouw.nl/agenda/bijeenkomst-ouderen-soos-2/
END:VEVENT
BEGIN:VEVENT
DTSTART;TZID=UTC:20230308T193000
DTEND;TZID=UTC:20230308T193000
DTSTAMP:20260422T152101
CREATED:20230112T185138Z
LAST-MODIFIED:20230112T185138Z
UID:608-1678303800-1678303800@www.onseigengebouw.nl
SUMMARY:Koorband repetitie
DESCRIPTION:
URL:https://www.onseigengebouw.nl/agenda/koorband-repetitie-4/
END:VEVENT
BEGIN:VEVENT
DTSTART;TZID=UTC:20230309T193000
DTEND;TZID=UTC:20230309T193000
DTSTAMP:20260422T152101
CREATED:20230112T185255Z
LAST-MODIFIED:20230112T185312Z
UID:612-1678390200-1678390200@www.onseigengebouw.nl
SUMMARY:Bridgeclub
DESCRIPTION:
URL:https://www.onseigengebouw.nl/agenda/bridgeclub-2/
END:VEVENT
BEGIN:VEVENT
DTSTART;VALUE=DATE:20230311
DTEND;VALUE=DATE:20230312
DTSTAMP:20260422T152101
CREATED:20230119T212107Z
LAST-MODIFIED:20230119T212107Z
UID:647-1678492800-1678579199@www.onseigengebouw.nl
SUMMARY:Doe dag
DESCRIPTION:
URL:https://www.onseigengebouw.nl/agenda/doe-dag/
END:VEVENT
BEGIN:VEVENT
DTSTART;TZID=UTC:20230313T093000
DTEND;TZID=UTC:20230313T103000
DTSTAMP:20260422T152101
CREATED:20230223T140042Z
LAST-MODIFIED:20230223T140042Z
UID:676-1678699800-1678703400@www.onseigengebouw.nl
SUMMARY:Gymclub KeepFit
DESCRIPTION:
URL:https://www.onseigengebouw.nl/agenda/gymclub-keepfit-6/
END:VEVENT
BEGIN:VEVENT
DTSTART;TZID=UTC:20230315T070000
DTEND;TZID=UTC:20230315T210000
DTSTAMP:20260422T152101
CREATED:20221117T205322Z
LAST-MODIFIED:20230119T212612Z
UID:548-1678863600-1678914000@www.onseigengebouw.nl
SUMMARY:Stembureau verkiezingen Provincie & waterschap
DESCRIPTION:
URL:https://www.onseigengebouw.nl/agenda/stembureau-verkiezingen-provincie-waterschap/
ATTACH;FMTTYPE=image/jpeg:https://www.onseigengebouw.nl/wp-content/uploads/2022/02/stembureau.jpg
END:VEVENT
BEGIN:VEVENT
DTSTART;TZID=UTC:20230315T100000
DTEND;TZID=UTC:20230315T120000
DTSTAMP:20260422T152101
CREATED:20230119T212421Z
LAST-MODIFIED:20230119T212453Z
UID:651-1678874400-1678881600@www.onseigengebouw.nl
SUMMARY:Koffie inloop-ochtend
DESCRIPTION:
URL:https://www.onseigengebouw.nl/agenda/koffie-inloop-ochtend-5/
END:VEVENT
BEGIN:VEVENT
DTSTART;TZID=UTC:20230316T193000
DTEND;TZID=UTC:20230316T193000
DTSTAMP:20260422T152101
CREATED:20230112T190437Z
LAST-MODIFIED:20230112T190437Z
UID:622-1678995000-1678995000@www.onseigengebouw.nl
SUMMARY:Bridgeclub
DESCRIPTION:
URL:https://www.onseigengebouw.nl/agenda/bridgeclub-7/
END:VEVENT
BEGIN:VEVENT
DTSTART;TZID=UTC:20230318T170000
DTEND;TZID=UTC:20230318T170000
DTSTAMP:20260422T152101
CREATED:20230119T212256Z
LAST-MODIFIED:20230119T212256Z
UID:649-1679158800-1679158800@www.onseigengebouw.nl
SUMMARY:Chinees buffet\, open eettafel
DESCRIPTION:  \nGezellig samen lekker eten! \nAanmelden via: \ninfo@onseigengebouw.nl
URL:https://www.onseigengebouw.nl/agenda/chinees-buffet-open-eettafel/
END:VEVENT
BEGIN:VEVENT
DTSTART;TZID=UTC:20230320T093000
DTEND;TZID=UTC:20230320T103000
DTSTAMP:20260422T152101
CREATED:20230223T140100Z
LAST-MODIFIED:20230223T140100Z
UID:678-1679304600-1679308200@www.onseigengebouw.nl
SUMMARY:Gymclub KeepFit
DESCRIPTION:
URL:https://www.onseigengebouw.nl/agenda/gymclub-keepfit-7/
END:VEVENT
BEGIN:VEVENT
DTSTART;TZID=UTC:20230323T193000
DTEND;TZID=UTC:20230323T193000
DTSTAMP:20260422T152101
CREATED:20230112T190506Z
LAST-MODIFIED:20230112T190506Z
UID:624-1679599800-1679599800@www.onseigengebouw.nl
SUMMARY:Bridgeclub
DESCRIPTION:
URL:https://www.onseigengebouw.nl/agenda/bridgeclub-8/
END:VEVENT
BEGIN:VEVENT
DTSTART;TZID=UTC:20230327T093000
DTEND;TZID=UTC:20230327T103000
DTSTAMP:20260422T152101
CREATED:20230223T140137Z
LAST-MODIFIED:20230223T140137Z
UID:680-1679909400-1679913000@www.onseigengebouw.nl
SUMMARY:Gymclub KeepFit
DESCRIPTION:
URL:https://www.onseigengebouw.nl/agenda/gymclub-keepfit-8/
END:VEVENT
BEGIN:VEVENT
DTSTART;TZID=UTC:20230330T193000
DTEND;TZID=UTC:20230330T193000
DTSTAMP:20260422T152101
CREATED:20230223T140728Z
LAST-MODIFIED:20230223T140728Z
UID:688-1680204600-1680204600@www.onseigengebouw.nl
SUMMARY:Bridgeclub
DESCRIPTION:
URL:https://www.onseigengebouw.nl/agenda/bridgeclub-9/
END:VEVENT
END:VCALENDAR