BEGIN:VCALENDAR
VERSION:2.0
PRODID:-//Ons Eigen Gebouw Buurmalsen - ECPv6.0.3.1//NONSGML v1.0//EN
CALSCALE:GREGORIAN
METHOD:PUBLISH
X-ORIGINAL-URL:https://www.onseigengebouw.nl
X-WR-CALDESC:Evenementen voor Ons Eigen Gebouw Buurmalsen
REFRESH-INTERVAL;VALUE=DURATION:PT1H
X-Robots-Tag:noindex
X-PUBLISHED-TTL:PT1H
BEGIN:VTIMEZONE
TZID:UTC
BEGIN:STANDARD
TZOFFSETFROM:+0000
TZOFFSETTO:+0000
TZNAME:UTC
DTSTART:20230101T000000
END:STANDARD
END:VTIMEZONE
BEGIN:VEVENT
DTSTART;TZID=UTC:20230202T193000
DTEND;TZID=UTC:20230202T193000
DTSTAMP:20260422T163957
CREATED:20230112T185220Z
LAST-MODIFIED:20230112T185220Z
UID:610-1675366200-1675366200@www.onseigengebouw.nl
SUMMARY:Bridgeclub
DESCRIPTION:
URL:https://www.onseigengebouw.nl/agenda/bridgeclub/
END:VEVENT
BEGIN:VEVENT
DTSTART;VALUE=DATE:20230204
DTEND;VALUE=DATE:20230205
DTSTAMP:20260422T163957
CREATED:20221212T210856Z
LAST-MODIFIED:20221212T210856Z
UID:572-1675468800-1675555199@www.onseigengebouw.nl
SUMMARY:Wandelclub Pr. Marijke rustpost winterserie
DESCRIPTION:
URL:https://www.onseigengebouw.nl/agenda/wandelclub-pr-marijke-rustpost-winterserie/
END:VEVENT
BEGIN:VEVENT
DTSTART;TZID=UTC:20230207T133000
DTEND;TZID=UTC:20230207T170000
DTSTAMP:20260422T163957
CREATED:20230112T184724Z
LAST-MODIFIED:20230112T184724Z
UID:600-1675776600-1675789200@www.onseigengebouw.nl
SUMMARY:Bijeenkomst ouderen soos
DESCRIPTION:
URL:https://www.onseigengebouw.nl/agenda/bijeenkomst-ouderen-soos/
END:VEVENT
BEGIN:VEVENT
DTSTART;TZID=UTC:20230208T200000
DTEND;TZID=UTC:20230208T220000
DTSTAMP:20260422T163957
CREATED:20221212T211210Z
LAST-MODIFIED:20221212T211210Z
UID:578-1675886400-1675893600@www.onseigengebouw.nl
SUMMARY:Koorband repetitie
DESCRIPTION:
URL:https://www.onseigengebouw.nl/agenda/koorband-repetitie-3/
END:VEVENT
BEGIN:VEVENT
DTSTART;TZID=UTC:20230209T193000
DTEND;TZID=UTC:20230209T193000
DTSTAMP:20260422T163957
CREATED:20230112T185337Z
LAST-MODIFIED:20230112T185337Z
UID:614-1675971000-1675971000@www.onseigengebouw.nl
SUMMARY:Bridgeclub
DESCRIPTION:
URL:https://www.onseigengebouw.nl/agenda/bridgeclub-3/
END:VEVENT
BEGIN:VEVENT
DTSTART;TZID=UTC:20230212T140000
DTEND;TZID=UTC:20230212T170000
DTSTAMP:20260422T163957
CREATED:20221212T211019Z
LAST-MODIFIED:20221212T211019Z
UID:574-1676210400-1676221200@www.onseigengebouw.nl
SUMMARY:Repetitie Smartlappenkoor Losbandig Systeem
DESCRIPTION:
URL:https://www.onseigengebouw.nl/agenda/repetitie-smartlappenkoor-losbandig-systeem/
END:VEVENT
BEGIN:VEVENT
DTSTART;TZID=UTC:20230213T200000
DTEND;TZID=UTC:20230213T200000
DTSTAMP:20260422T163957
CREATED:20230112T184957Z
LAST-MODIFIED:20230112T184957Z
UID:602-1676318400-1676318400@www.onseigengebouw.nl
SUMMARY:Schietclub
DESCRIPTION:
URL:https://www.onseigengebouw.nl/agenda/schietclub/
END:VEVENT
BEGIN:VEVENT
DTSTART;TZID=UTC:20230215T100000
DTEND;TZID=UTC:20230215T120000
DTSTAMP:20260422T163957
CREATED:20221212T211136Z
LAST-MODIFIED:20221212T211136Z
UID:576-1676455200-1676462400@www.onseigengebouw.nl
SUMMARY:Koffie inloop ochtend
DESCRIPTION:
URL:https://www.onseigengebouw.nl/agenda/koffie-inloop-ochtend-4/
END:VEVENT
BEGIN:VEVENT
DTSTART;TZID=UTC:20230216T193000
DTEND;TZID=UTC:20230216T193000
DTSTAMP:20260422T163957
CREATED:20230112T185355Z
LAST-MODIFIED:20230112T185355Z
UID:616-1676575800-1676575800@www.onseigengebouw.nl
SUMMARY:Bridgeclub
DESCRIPTION:
URL:https://www.onseigengebouw.nl/agenda/bridgeclub-4/
END:VEVENT
BEGIN:VEVENT
DTSTART;TZID=UTC:20230220T093000
DTEND;TZID=UTC:20230220T103000
DTSTAMP:20260422T163957
CREATED:20230212T212442Z
LAST-MODIFIED:20230212T212457Z
UID:669-1676885400-1676889000@www.onseigengebouw.nl
SUMMARY:Gymclub KeepFit
DESCRIPTION:
URL:https://www.onseigengebouw.nl/agenda/gymclub-keepfit-3/
END:VEVENT
BEGIN:VEVENT
DTSTART;TZID=UTC:20230223T193000
DTEND;TZID=UTC:20230223T193000
DTSTAMP:20260422T163957
CREATED:20230112T185415Z
LAST-MODIFIED:20230112T185415Z
UID:618-1677180600-1677180600@www.onseigengebouw.nl
SUMMARY:Bridgeclub
DESCRIPTION:
URL:https://www.onseigengebouw.nl/agenda/bridgeclub-5/
END:VEVENT
BEGIN:VEVENT
DTSTART;TZID=UTC:20230224T190000
DTEND;TZID=UTC:20230224T203000
DTSTAMP:20260422T163957
CREATED:20230212T212334Z
LAST-MODIFIED:20230212T212334Z
UID:667-1677265200-1677270600@www.onseigengebouw.nl
SUMMARY:Presentatie Corsowagen
DESCRIPTION:
URL:https://www.onseigengebouw.nl/agenda/presentatie-corsowagen/
END:VEVENT
BEGIN:VEVENT
DTSTART;TZID=UTC:20230227T093000
DTEND;TZID=UTC:20230227T103000
DTSTAMP:20260422T163957
CREATED:20230223T135957Z
LAST-MODIFIED:20230223T135957Z
UID:672-1677490200-1677493800@www.onseigengebouw.nl
SUMMARY:Gymclub KeepFit
DESCRIPTION:
URL:https://www.onseigengebouw.nl/agenda/gymclub-keepfit-4/
END:VEVENT
BEGIN:VEVENT
DTSTART;TZID=UTC:20230227T200000
DTEND;TZID=UTC:20230227T200000
DTSTAMP:20260422T163957
CREATED:20230112T185042Z
LAST-MODIFIED:20230112T185042Z
UID:604-1677528000-1677528000@www.onseigengebouw.nl
SUMMARY:schietclub
DESCRIPTION:
URL:https://www.onseigengebouw.nl/agenda/schietclub-2/
END:VEVENT
END:VCALENDAR