BEGIN:VCALENDAR
VERSION:2.0
PRODID:-//Ons Eigen Gebouw Buurmalsen - ECPv6.0.3.1//NONSGML v1.0//EN
CALSCALE:GREGORIAN
METHOD:PUBLISH
X-WR-CALNAME:Ons Eigen Gebouw Buurmalsen
X-ORIGINAL-URL:https://www.onseigengebouw.nl
X-WR-CALDESC:Evenementen voor Ons Eigen Gebouw Buurmalsen
REFRESH-INTERVAL;VALUE=DURATION:PT1H
X-Robots-Tag:noindex
X-PUBLISHED-TTL:PT1H
BEGIN:VTIMEZONE
TZID:UTC
BEGIN:STANDARD
TZOFFSETFROM:+0000
TZOFFSETTO:+0000
TZNAME:UTC
DTSTART:20220101T000000
END:STANDARD
END:VTIMEZONE
BEGIN:VEVENT
DTSTART;VALUE=DATE:20221231
DTEND;VALUE=DATE:20230102
DTSTAMP:20260422T180933
CREATED:20221109T160844Z
LAST-MODIFIED:20221109T160844Z
UID:530-1672444800-1672617599@www.onseigengebouw.nl
SUMMARY:Oud-en Nieuw
DESCRIPTION:
URL:https://www.onseigengebouw.nl/agenda/oud-en-nieuw/
END:VEVENT
BEGIN:VEVENT
DTSTART;TZID=UTC:20230104T200000
DTEND;TZID=UTC:20230104T200000
DTSTAMP:20260422T180933
CREATED:20221109T160117Z
LAST-MODIFIED:20221110T081705Z
UID:520-1672862400-1672862400@www.onseigengebouw.nl
SUMMARY:Koorband repetitie
DESCRIPTION:
URL:https://www.onseigengebouw.nl/agenda/koorband-repetitie-2/
END:VEVENT
BEGIN:VEVENT
DTSTART;TZID=UTC:20230105T193000
DTEND;TZID=UTC:20230105T193000
DTSTAMP:20260422T180933
CREATED:20221109T160340Z
LAST-MODIFIED:20221110T081645Z
UID:522-1672947000-1672947000@www.onseigengebouw.nl
SUMMARY:Bridgeclub Geldermalsen
DESCRIPTION:
URL:https://www.onseigengebouw.nl/agenda/bridgeclub-geldermalsen-7/
END:VEVENT
BEGIN:VEVENT
DTSTART;TZID=UTC:20230107T153000
DTEND;TZID=UTC:20230107T180000
DTSTAMP:20260422T180933
CREATED:20221212T210733Z
LAST-MODIFIED:20221212T210733Z
UID:570-1673105400-1673114400@www.onseigengebouw.nl
SUMMARY:Nieuwjaarsreceptie Dorpsraad
DESCRIPTION:
URL:https://www.onseigengebouw.nl/agenda/nieuwjaarsreceptie-dorpsraad/
END:VEVENT
BEGIN:VEVENT
DTSTART;TZID=UTC:20230108T140000
DTEND;TZID=UTC:20230108T140000
DTSTAMP:20260422T180933
CREATED:20221109T160047Z
LAST-MODIFIED:20221110T081629Z
UID:518-1673186400-1673186400@www.onseigengebouw.nl
SUMMARY:Smartlappenkoor Losbandig Systeem repetitie
DESCRIPTION:
URL:https://www.onseigengebouw.nl/agenda/smartlappenkoor-losbandig-systeem-repetitie-3/
END:VEVENT
BEGIN:VEVENT
DTSTART;TZID=UTC:20230112T193000
DTEND;TZID=UTC:20230112T193000
DTSTAMP:20260422T180933
CREATED:20221109T170737Z
LAST-MODIFIED:20221110T082630Z
UID:538-1673551800-1673551800@www.onseigengebouw.nl
SUMMARY:Bridgeclub Geldermalsen
DESCRIPTION:
URL:https://www.onseigengebouw.nl/agenda/bridgeclub-geldermalsen-8/
END:VEVENT
BEGIN:VEVENT
DTSTART;TZID=UTC:20230115T143000
DTEND;TZID=UTC:20230115T143000
DTSTAMP:20260422T180933
CREATED:20221109T150253Z
LAST-MODIFIED:20221110T081611Z
UID:515-1673793000-1673793000@www.onseigengebouw.nl
SUMMARY:Nieuwjaarsconcert Triple B Bigband
DESCRIPTION:
URL:https://www.onseigengebouw.nl/agenda/nieuwjarsconcert-triple-b-bigband/
END:VEVENT
BEGIN:VEVENT
DTSTART;TZID=UTC:20230116T093000
DTEND;TZID=UTC:20230116T103000
DTSTAMP:20260422T180933
CREATED:20221212T211305Z
LAST-MODIFIED:20221212T211305Z
UID:580-1673861400-1673865000@www.onseigengebouw.nl
SUMMARY:Gymclub KeepFit
DESCRIPTION:
URL:https://www.onseigengebouw.nl/agenda/gymclub-keepfit/
END:VEVENT
BEGIN:VEVENT
DTSTART;TZID=UTC:20230116T200000
DTEND;TZID=UTC:20230116T200000
DTSTAMP:20260422T180933
CREATED:20221109T160738Z
LAST-MODIFIED:20221110T081554Z
UID:528-1673899200-1673899200@www.onseigengebouw.nl
SUMMARY:Schietclub `T Trefpunt oefenavond
DESCRIPTION:
URL:https://www.onseigengebouw.nl/agenda/schietclub-t-trefpunt-oefenavond/
END:VEVENT
BEGIN:VEVENT
DTSTART;TZID=UTC:20230118T100000
DTEND;TZID=UTC:20230118T120000
DTSTAMP:20260422T180933
CREATED:20221109T160434Z
LAST-MODIFIED:20221109T160434Z
UID:524-1674036000-1674043200@www.onseigengebouw.nl
SUMMARY:Koffie inloop ochtend
DESCRIPTION:
URL:https://www.onseigengebouw.nl/agenda/koffie-inloop-ochtend-3/
END:VEVENT
BEGIN:VEVENT
DTSTART;TZID=UTC:20230119T193000
DTEND;TZID=UTC:20230119T193000
DTSTAMP:20260422T180933
CREATED:20221109T170806Z
LAST-MODIFIED:20221110T081535Z
UID:540-1674156600-1674156600@www.onseigengebouw.nl
SUMMARY:Bridgeclub Geldermalsen
DESCRIPTION:
URL:https://www.onseigengebouw.nl/agenda/bridgeclub-geldermalsen-9/
END:VEVENT
BEGIN:VEVENT
DTSTART;TZID=UTC:20230121T103000
DTEND;TZID=UTC:20230121T120000
DTSTAMP:20260422T180933
CREATED:20230112T184105Z
LAST-MODIFIED:20230112T184125Z
UID:589-1674297000-1674302400@www.onseigengebouw.nl
SUMMARY:Bijeenkomst project Malsenhof
DESCRIPTION:
URL:https://www.onseigengebouw.nl/agenda/bijeenkomst-project-malsenhof/
END:VEVENT
BEGIN:VEVENT
DTSTART;TZID=UTC:20230123T093000
DTEND;TZID=UTC:20230123T103000
DTSTAMP:20260422T180933
CREATED:20230112T184233Z
LAST-MODIFIED:20230112T184423Z
UID:591-1674466200-1674469800@www.onseigengebouw.nl
SUMMARY:Gymclub Keep Fit
DESCRIPTION:
URL:https://www.onseigengebouw.nl/agenda/gymclub-keep-fit/
END:VEVENT
BEGIN:VEVENT
DTSTART;TZID=UTC:20230124T200000
DTEND;TZID=UTC:20230124T200000
DTSTAMP:20260422T180933
CREATED:20230112T184637Z
LAST-MODIFIED:20230112T184637Z
UID:598-1674590400-1674590400@www.onseigengebouw.nl
SUMMARY:bijeenkomst dorpsraad
DESCRIPTION:
URL:https://www.onseigengebouw.nl/agenda/bijeenkomst-dorpsraad/
END:VEVENT
BEGIN:VEVENT
DTSTART;TZID=UTC:20230126T193000
DTEND;TZID=UTC:20230126T193000
DTSTAMP:20260422T180933
CREATED:20221109T170838Z
LAST-MODIFIED:20221110T081517Z
UID:542-1674761400-1674761400@www.onseigengebouw.nl
SUMMARY:Bridgeclub Geldermalsen
DESCRIPTION:
URL:https://www.onseigengebouw.nl/agenda/bridgeclub-geldermalsen-10/
END:VEVENT
BEGIN:VEVENT
DTSTART;TZID=UTC:20230130T093000
DTEND;TZID=UTC:20230130T103000
DTSTAMP:20260422T180933
CREATED:20221212T211518Z
LAST-MODIFIED:20221212T211518Z
UID:582-1675071000-1675074600@www.onseigengebouw.nl
SUMMARY:Gymclub KeepFit
DESCRIPTION:
URL:https://www.onseigengebouw.nl/agenda/gymclub-keepfit-2/
END:VEVENT
BEGIN:VEVENT
DTSTART;TZID=UTC:20230130T200000
DTEND;TZID=UTC:20230130T200000
DTSTAMP:20260422T180933
CREATED:20221109T170631Z
LAST-MODIFIED:20221110T081456Z
UID:536-1675108800-1675108800@www.onseigengebouw.nl
SUMMARY:Schietclub wedstrijd Buren
DESCRIPTION:
URL:https://www.onseigengebouw.nl/agenda/schietclub-wedstrijd-buren/
END:VEVENT
END:VCALENDAR