BEGIN:VCALENDAR
VERSION:2.0
PRODID:-//Ons Eigen Gebouw Buurmalsen - ECPv6.0.3.1//NONSGML v1.0//EN
CALSCALE:GREGORIAN
METHOD:PUBLISH
X-WR-CALNAME:Ons Eigen Gebouw Buurmalsen
X-ORIGINAL-URL:https://www.onseigengebouw.nl
X-WR-CALDESC:Evenementen voor Ons Eigen Gebouw Buurmalsen
REFRESH-INTERVAL;VALUE=DURATION:PT1H
X-Robots-Tag:noindex
X-PUBLISHED-TTL:PT1H
BEGIN:VTIMEZONE
TZID:UTC
BEGIN:STANDARD
TZOFFSETFROM:+0000
TZOFFSETTO:+0000
TZNAME:UTC
DTSTART:20220101T000000
END:STANDARD
END:VTIMEZONE
BEGIN:VEVENT
DTSTART;TZID=UTC:20221201T193000
DTEND;TZID=UTC:20221201T193000
DTSTAMP:20260422T193141
CREATED:20221109T145042Z
LAST-MODIFIED:20221110T082219Z
UID:494-1669923000-1669923000@www.onseigengebouw.nl
SUMMARY:Bridgeclub Geldermalsen
DESCRIPTION:
URL:https://www.onseigengebouw.nl/agenda/bridgeclub-geldermalsen-3/
END:VEVENT
BEGIN:VEVENT
DTSTART;TZID=UTC:20221205T093000
DTEND;TZID=UTC:20221205T103000
DTSTAMP:20260422T193141
CREATED:20221109T150016Z
LAST-MODIFIED:20221109T150016Z
UID:511-1670232600-1670236200@www.onseigengebouw.nl
SUMMARY:Gym Keep-Fit
DESCRIPTION:
URL:https://www.onseigengebouw.nl/agenda/gym-keep-fit-2/
END:VEVENT
BEGIN:VEVENT
DTSTART;TZID=UTC:20221206T140000
DTEND;TZID=UTC:20221206T140000
DTSTAMP:20260422T193141
CREATED:20221109T141846Z
LAST-MODIFIED:20221110T082138Z
UID:461-1670335200-1670335200@www.onseigengebouw.nl
SUMMARY:Soos middag
DESCRIPTION:Club middag van de 60+ Soos van Buurmalsen
URL:https://www.onseigengebouw.nl/agenda/soos-middag/
END:VEVENT
BEGIN:VEVENT
DTSTART;TZID=UTC:20221207T200000
DTEND;TZID=UTC:20221207T200000
DTSTAMP:20260422T193141
CREATED:20221109T143836Z
LAST-MODIFIED:20221110T082116Z
UID:486-1670443200-1670443200@www.onseigengebouw.nl
SUMMARY:koorband repetitie
DESCRIPTION:
URL:https://www.onseigengebouw.nl/agenda/koorband-repetitie/
END:VEVENT
BEGIN:VEVENT
DTSTART;TZID=UTC:20221208T193000
DTEND;TZID=UTC:20221208T193000
DTSTAMP:20260422T193141
CREATED:20221109T145117Z
LAST-MODIFIED:20221110T082056Z
UID:496-1670527800-1670527800@www.onseigengebouw.nl
SUMMARY:Bridgeclub Geldermalsen
DESCRIPTION:
URL:https://www.onseigengebouw.nl/agenda/bridgeclub-geldermalsen-4/
END:VEVENT
BEGIN:VEVENT
DTSTART;TZID=UTC:20221210T200000
DTEND;TZID=UTC:20221210T200000
DTSTAMP:20260422T193141
CREATED:20221109T143133Z
LAST-MODIFIED:20221110T082037Z
UID:473-1670702400-1670702400@www.onseigengebouw.nl
SUMMARY:Faute Kerstparty
DESCRIPTION:
URL:https://www.onseigengebouw.nl/agenda/faute-kerstparty/
END:VEVENT
BEGIN:VEVENT
DTSTART;TZID=UTC:20221211T140000
DTEND;TZID=UTC:20221211T140000
DTSTAMP:20260422T193141
CREATED:20221109T143319Z
LAST-MODIFIED:20221110T081919Z
UID:478-1670767200-1670767200@www.onseigengebouw.nl
SUMMARY:Smartlappenkoor Losbandig Systeem repetitie
DESCRIPTION:
URL:https://www.onseigengebouw.nl/agenda/smartlappenkoor-losbandig-systeem-repetitie-2/
END:VEVENT
BEGIN:VEVENT
DTSTART;TZID=UTC:20221212T093000
DTEND;TZID=UTC:20221212T103000
DTSTAMP:20260422T193141
CREATED:20221109T150049Z
LAST-MODIFIED:20221109T150049Z
UID:513-1670837400-1670841000@www.onseigengebouw.nl
SUMMARY:Gym Keep-Fit
DESCRIPTION:
URL:https://www.onseigengebouw.nl/agenda/gym-keep-fit-3/
END:VEVENT
BEGIN:VEVENT
DTSTART;TZID=UTC:20221215T193000
DTEND;TZID=UTC:20221215T193000
DTSTAMP:20260422T193141
CREATED:20221109T145414Z
LAST-MODIFIED:20221110T081853Z
UID:501-1671132600-1671132600@www.onseigengebouw.nl
SUMMARY:Bridgeclub Geldermalsen
DESCRIPTION:
URL:https://www.onseigengebouw.nl/agenda/bridgeclub-geldermalsen-5/
END:VEVENT
BEGIN:VEVENT
DTSTART;TZID=UTC:20221219T200000
DTEND;TZID=UTC:20221219T200000
DTSTAMP:20260422T193141
CREATED:20221109T143406Z
LAST-MODIFIED:20221110T081823Z
UID:480-1671480000-1671480000@www.onseigengebouw.nl
SUMMARY:Kerstschieten van schietclub `T Trefpunt
DESCRIPTION:
URL:https://www.onseigengebouw.nl/agenda/kerstschieten-van-schietclub-t-trefpunt/
END:VEVENT
BEGIN:VEVENT
DTSTART;TZID=UTC:20221220T163000
DTEND;TZID=UTC:20221220T163000
DTSTAMP:20260422T193141
CREATED:20221109T143555Z
LAST-MODIFIED:20221110T081806Z
UID:482-1671553800-1671553800@www.onseigengebouw.nl
SUMMARY:Kerstfeest van de Soos
DESCRIPTION:Soos 60+ vereniging viert kerst. \nOnder het genot van een heerlijke\, feestelijke maaltijd luisteren naar de mooiste kerstliederen
URL:https://www.onseigengebouw.nl/agenda/kerstfeest-van-de-soos/
END:VEVENT
BEGIN:VEVENT
DTSTART;TZID=UTC:20221221T100000
DTEND;TZID=UTC:20221221T120000
DTSTAMP:20260422T193141
CREATED:20221109T145635Z
LAST-MODIFIED:20221109T145635Z
UID:503-1671616800-1671624000@www.onseigengebouw.nl
SUMMARY:Koffie inloop ochtend
DESCRIPTION:
URL:https://www.onseigengebouw.nl/agenda/koffie-inloop-ochtend-2/
END:VEVENT
BEGIN:VEVENT
DTSTART;TZID=UTC:20221222T193000
DTEND;TZID=UTC:20221222T193000
DTSTAMP:20260422T193141
CREATED:20221109T145712Z
LAST-MODIFIED:20221110T081745Z
UID:505-1671737400-1671737400@www.onseigengebouw.nl
SUMMARY:Bridgeclub Geldermalsen
DESCRIPTION:
URL:https://www.onseigengebouw.nl/agenda/bridgeclub-geldermalsen-6/
END:VEVENT
BEGIN:VEVENT
DTSTART;VALUE=DATE:20221225
DTEND;VALUE=DATE:20221227
DTSTAMP:20260422T193141
CREATED:20221109T145805Z
LAST-MODIFIED:20221109T145805Z
UID:507-1671926400-1672099199@www.onseigengebouw.nl
SUMMARY:Kerst
DESCRIPTION:
URL:https://www.onseigengebouw.nl/agenda/kerst/
END:VEVENT
BEGIN:VEVENT
DTSTART;TZID=UTC:20221229T193000
DTEND;TZID=UTC:20221229T193000
DTSTAMP:20260422T193141
CREATED:20221109T145910Z
LAST-MODIFIED:20221110T081723Z
UID:509-1672342200-1672342200@www.onseigengebouw.nl
SUMMARY:Bridgeclub Kerst-drive
DESCRIPTION:
URL:https://www.onseigengebouw.nl/agenda/bridgeclub-kerst-drive/
END:VEVENT
BEGIN:VEVENT
DTSTART;VALUE=DATE:20221231
DTEND;VALUE=DATE:20230102
DTSTAMP:20260422T193141
CREATED:20221109T160844Z
LAST-MODIFIED:20221109T160844Z
UID:530-1672444800-1672617599@www.onseigengebouw.nl
SUMMARY:Oud-en Nieuw
DESCRIPTION:
URL:https://www.onseigengebouw.nl/agenda/oud-en-nieuw/
END:VEVENT
END:VCALENDAR