BEGIN:VCALENDAR
VERSION:2.0
PRODID:-//Ons Eigen Gebouw Buurmalsen - ECPv6.0.3.1//NONSGML v1.0//EN
CALSCALE:GREGORIAN
METHOD:PUBLISH
X-WR-CALNAME:Ons Eigen Gebouw Buurmalsen
X-ORIGINAL-URL:https://www.onseigengebouw.nl
X-WR-CALDESC:Evenementen voor Ons Eigen Gebouw Buurmalsen
REFRESH-INTERVAL;VALUE=DURATION:PT1H
X-Robots-Tag:noindex
X-PUBLISHED-TTL:PT1H
BEGIN:VTIMEZONE
TZID:UTC
BEGIN:STANDARD
TZOFFSETFROM:+0000
TZOFFSETTO:+0000
TZNAME:UTC
DTSTART:20220101T000000
END:STANDARD
END:VTIMEZONE
BEGIN:VEVENT
DTSTART;TZID=UTC:20221124T193000
DTEND;TZID=UTC:20221124T193000
DTSTAMP:20260422T224109
CREATED:20221109T144445Z
LAST-MODIFIED:20221110T082332Z
UID:492-1669318200-1669318200@www.onseigengebouw.nl
SUMMARY:Bridgeclub Geldermalsen
DESCRIPTION:
URL:https://www.onseigengebouw.nl/agenda/bridge-geldermalsen/
END:VEVENT
BEGIN:VEVENT
DTSTART;TZID=UTC:20221121T093000
DTEND;TZID=UTC:20221121T103000
DTSTAMP:20260422T224109
CREATED:20221109T142955Z
LAST-MODIFIED:20221109T142955Z
UID:471-1669023000-1669026600@www.onseigengebouw.nl
SUMMARY:Gym Keepfit
DESCRIPTION:
URL:https://www.onseigengebouw.nl/agenda/gym-keepfit/
END:VEVENT
BEGIN:VEVENT
DTSTART;TZID=UTC:20221119T130000
DTEND;TZID=UTC:20221119T130000
DTSTAMP:20260422T224109
CREATED:20221109T140010Z
LAST-MODIFIED:20221110T082349Z
UID:447-1668862800-1668862800@www.onseigengebouw.nl
SUMMARY:Bridge voor het goede doel
DESCRIPTION:Bridgeclub Geldermalsen organiseert zaterdag 19 november een bridge middag. \nDe opbrengst van deze middag zal geschonken worden aan Stichting Help Elkaar uit Geldermalsen
URL:https://www.onseigengebouw.nl/agenda/bridge-voor-het-goede-doel/
END:VEVENT
BEGIN:VEVENT
DTSTART;TZID=UTC:20221117T193000
DTEND;TZID=UTC:20221117T193000
DTSTAMP:20260422T224109
CREATED:20221109T144142Z
LAST-MODIFIED:20221110T082415Z
UID:490-1668713400-1668713400@www.onseigengebouw.nl
SUMMARY:Bridgeclub Geldermalsen
DESCRIPTION:
URL:https://www.onseigengebouw.nl/agenda/bridgeclub-geldermalsen-2/
END:VEVENT
BEGIN:VEVENT
DTSTART;TZID=UTC:20221116T100000
DTEND;TZID=UTC:20221116T120000
DTSTAMP:20260422T224109
CREATED:20221109T141312Z
LAST-MODIFIED:20221109T141312Z
UID:456-1668592800-1668600000@www.onseigengebouw.nl
SUMMARY:Koffie inloop ochtend
DESCRIPTION:
URL:https://www.onseigengebouw.nl/agenda/koffie-inloop-ochtend/
END:VEVENT
BEGIN:VEVENT
DTSTART;TZID=UTC:20221114T200000
DTEND;TZID=UTC:20221114T223000
DTSTAMP:20260422T224109
CREATED:20221109T141227Z
LAST-MODIFIED:20221109T141527Z
UID:454-1668456000-1668465000@www.onseigengebouw.nl
SUMMARY:Schietclub T Trefpunt wedstrijd Herwijnen
DESCRIPTION:
URL:https://www.onseigengebouw.nl/agenda/schietclub-t-trefpunt-wedstrijd-herwijnen/
END:VEVENT
BEGIN:VEVENT
DTSTART;TZID=UTC:20221113T140000
DTEND;TZID=UTC:20221113T140000
DTSTAMP:20260422T224109
CREATED:20221109T141046Z
LAST-MODIFIED:20221110T082722Z
UID:452-1668348000-1668348000@www.onseigengebouw.nl
SUMMARY:Smartlappenkoor Losbandig Systeem repetitie
DESCRIPTION:
URL:https://www.onseigengebouw.nl/agenda/smartlappenkoor-losbandig-systeem-repetitie/
END:VEVENT
BEGIN:VEVENT
DTSTART;TZID=UTC:20221112T140000
DTEND;TZID=UTC:20221112T140000
DTSTAMP:20260422T224109
CREATED:20221109T140932Z
LAST-MODIFIED:20221110T082441Z
UID:450-1668261600-1668261600@www.onseigengebouw.nl
SUMMARY:Intocht Sinterklaas
DESCRIPTION:
URL:https://www.onseigengebouw.nl/agenda/intocht-sinterklaas/
END:VEVENT
BEGIN:VEVENT
DTSTART;TZID=UTC:20221110T193000
DTEND;TZID=UTC:20221110T193000
DTSTAMP:20260422T224109
CREATED:20221109T143948Z
LAST-MODIFIED:20221110T082615Z
UID:488-1668108600-1668108600@www.onseigengebouw.nl
SUMMARY:Bridgeclub Geldermalsen
DESCRIPTION:
URL:https://www.onseigengebouw.nl/agenda/bridgeclub-geldermalsen/
END:VEVENT
END:VCALENDAR