BEGIN:VCALENDAR
VERSION:2.0
PRODID:-//Ons Eigen Gebouw Buurmalsen - ECPv6.0.3.1//NONSGML v1.0//EN
CALSCALE:GREGORIAN
METHOD:PUBLISH
X-WR-CALNAME:Ons Eigen Gebouw Buurmalsen
X-ORIGINAL-URL:https://www.onseigengebouw.nl
X-WR-CALDESC:Evenementen voor Ons Eigen Gebouw Buurmalsen
REFRESH-INTERVAL;VALUE=DURATION:PT1H
X-Robots-Tag:noindex
X-PUBLISHED-TTL:PT1H
BEGIN:VTIMEZONE
TZID:UTC
BEGIN:STANDARD
TZOFFSETFROM:+0000
TZOFFSETTO:+0000
TZNAME:UTC
DTSTART:20260101T000000
END:STANDARD
END:VTIMEZONE
BEGIN:VEVENT
DTSTART;TZID=UTC:20260119T093000
DTEND;TZID=UTC:20260119T103000
DTSTAMP:20260419T123420
CREATED:20251103T113712Z
LAST-MODIFIED:20251103T113712Z
UID:1816-1768815000-1768818600@www.onseigengebouw.nl
SUMMARY:Gymclub
DESCRIPTION:
URL:https://www.onseigengebouw.nl/agenda/gymclub-62/
END:VEVENT
BEGIN:VEVENT
DTSTART;TZID=UTC:20260119T200000
DTEND;TZID=UTC:20260119T220000
DTSTAMP:20260419T123420
CREATED:20250912T181755Z
LAST-MODIFIED:20250912T181755Z
UID:1738-1768852800-1768860000@www.onseigengebouw.nl
SUMMARY:Schietclub wedstrijd Buren
DESCRIPTION:
URL:https://www.onseigengebouw.nl/agenda/schietclub-wedstrijd-buren-3/
END:VEVENT
END:VCALENDAR