BEGIN:VCALENDAR
VERSION:2.0
PRODID:-//Ons Eigen Gebouw Buurmalsen - ECPv6.0.3.1//NONSGML v1.0//EN
CALSCALE:GREGORIAN
METHOD:PUBLISH
X-ORIGINAL-URL:https://www.onseigengebouw.nl
X-WR-CALDESC:Evenementen voor Ons Eigen Gebouw Buurmalsen
REFRESH-INTERVAL;VALUE=DURATION:PT1H
X-Robots-Tag:noindex
X-PUBLISHED-TTL:PT1H
BEGIN:VTIMEZONE
TZID:UTC
BEGIN:STANDARD
TZOFFSETFROM:+0000
TZOFFSETTO:+0000
TZNAME:UTC
DTSTART:20260101T000000
END:STANDARD
END:VTIMEZONE
BEGIN:VEVENT
DTSTART;TZID=UTC:20260106T140000
DTEND;TZID=UTC:20260106T170000
DTSTAMP:20260419T123602
CREATED:20251103T112947Z
LAST-MODIFIED:20251103T112947Z
UID:1782-1767708000-1767718800@www.onseigengebouw.nl
SUMMARY:Soos 60+ Buurmalsen
DESCRIPTION:
URL:https://www.onseigengebouw.nl/agenda/soos-60-buurmalsen-4/
END:VEVENT
END:VCALENDAR