BEGIN:VCALENDAR
VERSION:2.0
PRODID:-//Ons Eigen Gebouw Buurmalsen - ECPv6.0.3.1//NONSGML v1.0//EN
CALSCALE:GREGORIAN
METHOD:PUBLISH
X-WR-CALNAME:Ons Eigen Gebouw Buurmalsen
X-ORIGINAL-URL:https://www.onseigengebouw.nl
X-WR-CALDESC:Evenementen voor Ons Eigen Gebouw Buurmalsen
REFRESH-INTERVAL;VALUE=DURATION:PT1H
X-Robots-Tag:noindex
X-PUBLISHED-TTL:PT1H
BEGIN:VTIMEZONE
TZID:UTC
BEGIN:STANDARD
TZOFFSETFROM:+0000
TZOFFSETTO:+0000
TZNAME:UTC
DTSTART:20240101T000000
END:STANDARD
END:VTIMEZONE
BEGIN:VEVENT
DTSTART;TZID=UTC:20240623T100000
DTEND;TZID=UTC:20240623T170000
DTSTAMP:20260422T174913
CREATED:20240604T180236Z
LAST-MODIFIED:20240604T180236Z
UID:1251-1719136800-1719162000@www.onseigengebouw.nl
SUMMARY:Halve marathon klaverjas & pokeren
DESCRIPTION:Ons Eigen Gebouw organiseert:\nZondag 23 juni 2024\nHalve marathon Klaverjassen & Jokeren\n6 bomen aan 2 tafels/ Rotterdams\nInschrijfkosten zijn 15\,- p.p. inclusief lunch en hapjes \nBar is open voor toeschouwers\nProgramma;\n10:00 – 10:30 → Aanmelden\n10:30 – 13:00 → 1 helft\n13:00 – 14:00 → Lunch\n14:00 – 16:30 → 2 helft\nRond 17:00 → Prijsuitreiking \nVan tevoren opgeven bij;\nRemco Ververs → 0652633656\nLaura Ververs → 0616273038\ninfo@onseigengebouw.nl \nZien wij jou daar verschijnen?
URL:https://www.onseigengebouw.nl/agenda/halve-marathon-klaverjas-pokeren/
END:VEVENT
END:VCALENDAR