BEGIN:VCALENDAR
VERSION:2.0
PRODID:-//Ons Eigen Gebouw Buurmalsen - ECPv6.0.3.1//NONSGML v1.0//EN
CALSCALE:GREGORIAN
METHOD:PUBLISH
X-ORIGINAL-URL:https://www.onseigengebouw.nl
X-WR-CALDESC:Evenementen voor Ons Eigen Gebouw Buurmalsen
REFRESH-INTERVAL;VALUE=DURATION:PT1H
X-Robots-Tag:noindex
X-PUBLISHED-TTL:PT1H
BEGIN:VTIMEZONE
TZID:UTC
BEGIN:STANDARD
TZOFFSETFROM:+0000
TZOFFSETTO:+0000
TZNAME:UTC
DTSTART:20240101T000000
END:STANDARD
END:VTIMEZONE
BEGIN:VEVENT
DTSTART;TZID=UTC:20240622T170000
DTEND;TZID=UTC:20240622T233000
DTSTAMP:20260422T175033
CREATED:20240328T130503Z
LAST-MODIFIED:20240604T180417Z
UID:1192-1719075600-1719099000@www.onseigengebouw.nl
SUMMARY:Ons Eigen BBQ
DESCRIPTION:Ons Eigen Gebouw Buurmalsen\nOrganiseert op zaterdag 22 juni 2024\nOns Eigen BBQ\nAanvang 16.00 – BBQ gaat aan vanaf 17.00 uur.\nLocatie: Groeneweg 23 te Buurmalsen \nEr wordt vanuit het dorpshuis kosteloos aangeboden:\nDe BBQ\, de kolen\, salades\, sauzen\, stokbrood en ijs.\nLet op: Eigen vlees/groenten meebrengen\nDrankjes zijn tegen betaling af te halen aan de bar. \nGeef je eigen op direct bij o.a. Het Bestuur of Laura Ververs 0616273038 en Remco Ververs\n0652633656. \nVia mail kan ook op info@onseigengebouw.nl of via onderstaande\nantwoordstrook te deponeren in de brievenbus van het dorpshuis (Groeneweg 23\, Buurmalsen)\n————————————————————————————————————————\nNaam:\nAantal personen: Volwassenen: Kinderen t/m 12 jaar:\nContactgegevens/ telefoonnummer/ Email:\nEr zijn geen kosten te voldoen/ eigen vlees en groenten meebrengen!\nDrankjes zijn tegen betaling af te halen aan de bar.
URL:https://www.onseigengebouw.nl/agenda/ons-eigen-bbq/
END:VEVENT
END:VCALENDAR