BEGIN:VCALENDAR
VERSION:2.0
PRODID:-//Ons Eigen Gebouw Buurmalsen - ECPv6.0.3.1//NONSGML v1.0//EN
CALSCALE:GREGORIAN
METHOD:PUBLISH
X-ORIGINAL-URL:https://www.onseigengebouw.nl
X-WR-CALDESC:Evenementen voor Ons Eigen Gebouw Buurmalsen
REFRESH-INTERVAL;VALUE=DURATION:PT1H
X-Robots-Tag:noindex
X-PUBLISHED-TTL:PT1H
BEGIN:VTIMEZONE
TZID:UTC
BEGIN:STANDARD
TZOFFSETFROM:+0000
TZOFFSETTO:+0000
TZNAME:UTC
DTSTART:20240101T000000
END:STANDARD
END:VTIMEZONE
BEGIN:VEVENT
DTSTART;TZID=UTC:20240619T100000
DTEND;TZID=UTC:20240619T120000
DTSTAMP:20260422T175035
CREATED:20240328T131313Z
LAST-MODIFIED:20240328T131313Z
UID:1215-1718791200-1718798400@www.onseigengebouw.nl
SUMMARY:Koffieochtend
DESCRIPTION:
URL:https://www.onseigengebouw.nl/agenda/koffieochtend/
END:VEVENT
END:VCALENDAR