BEGIN:VCALENDAR
VERSION:2.0
PRODID:-//Ons Eigen Gebouw Buurmalsen - ECPv6.0.3.1//NONSGML v1.0//EN
CALSCALE:GREGORIAN
METHOD:PUBLISH
X-WR-CALNAME:Ons Eigen Gebouw Buurmalsen
X-ORIGINAL-URL:https://www.onseigengebouw.nl
X-WR-CALDESC:Evenementen voor Ons Eigen Gebouw Buurmalsen
REFRESH-INTERVAL;VALUE=DURATION:PT1H
X-Robots-Tag:noindex
X-PUBLISHED-TTL:PT1H
BEGIN:VTIMEZONE
TZID:UTC
BEGIN:STANDARD
TZOFFSETFROM:+0000
TZOFFSETTO:+0000
TZNAME:UTC
DTSTART:20240101T000000
END:STANDARD
END:VTIMEZONE
BEGIN:VEVENT
DTSTART;TZID=UTC:20240406T183000
DTEND;TZID=UTC:20240406T233000
DTSTAMP:20260422T153830
CREATED:20240204T120337Z
LAST-MODIFIED:20240204T120337Z
UID:1114-1712428200-1712446200@www.onseigengebouw.nl
SUMMARY:Bingo
DESCRIPTION:
URL:https://www.onseigengebouw.nl/agenda/bingo/
ATTACH;FMTTYPE=image/jpeg:https://www.onseigengebouw.nl/wp-content/uploads/2024/02/bingo.jpg
END:VEVENT
END:VCALENDAR