BEGIN:VCALENDAR
VERSION:2.0
PRODID:-//Ons Eigen Gebouw Buurmalsen - ECPv6.0.3.1//NONSGML v1.0//EN
CALSCALE:GREGORIAN
METHOD:PUBLISH
X-WR-CALNAME:Ons Eigen Gebouw Buurmalsen
X-ORIGINAL-URL:https://www.onseigengebouw.nl
X-WR-CALDESC:Evenementen voor Ons Eigen Gebouw Buurmalsen
REFRESH-INTERVAL;VALUE=DURATION:PT1H
X-Robots-Tag:noindex
X-PUBLISHED-TTL:PT1H
BEGIN:VTIMEZONE
TZID:UTC
BEGIN:STANDARD
TZOFFSETFROM:+0000
TZOFFSETTO:+0000
TZNAME:UTC
DTSTART:20240101T000000
END:STANDARD
END:VTIMEZONE
BEGIN:VEVENT
DTSTART;TZID=UTC:20240403T090000
DTEND;TZID=UTC:20240403T163000
DTSTAMP:20260422T151946
CREATED:20240205T112826Z
LAST-MODIFIED:20240205T114625Z
UID:1140-1712134800-1712161800@www.onseigengebouw.nl
SUMMARY:Proefexamens Ida Gerhardt
DESCRIPTION:
URL:https://www.onseigengebouw.nl/agenda/pasen-2/
END:VEVENT
BEGIN:VEVENT
DTSTART;TZID=UTC:20240403T193000
DTEND;TZID=UTC:20240403T213000
DTSTAMP:20260422T151946
CREATED:20240328T130609Z
LAST-MODIFIED:20240328T130609Z
UID:1194-1712172600-1712179800@www.onseigengebouw.nl
SUMMARY:Repetitie koorband
DESCRIPTION:
URL:https://www.onseigengebouw.nl/agenda/repetitie-koorband-8/
END:VEVENT
END:VCALENDAR