BEGIN:VCALENDAR
VERSION:2.0
PRODID:-//Ons Eigen Gebouw Buurmalsen - ECPv6.0.3.1//NONSGML v1.0//EN
CALSCALE:GREGORIAN
METHOD:PUBLISH
X-WR-CALNAME:Ons Eigen Gebouw Buurmalsen
X-ORIGINAL-URL:https://www.onseigengebouw.nl
X-WR-CALDESC:Evenementen voor Ons Eigen Gebouw Buurmalsen
REFRESH-INTERVAL;VALUE=DURATION:PT1H
X-Robots-Tag:noindex
X-PUBLISHED-TTL:PT1H
BEGIN:VTIMEZONE
TZID:UTC
BEGIN:STANDARD
TZOFFSETFROM:+0000
TZOFFSETTO:+0000
TZNAME:UTC
DTSTART:20240101T000000
END:STANDARD
END:VTIMEZONE
BEGIN:VEVENT
DTSTART;TZID=UTC:20240129T093000
DTEND;TZID=UTC:20240129T103000
DTSTAMP:20260422T113625
CREATED:20231207T211354Z
LAST-MODIFIED:20231207T211354Z
UID:1069-1706520600-1706524200@www.onseigengebouw.nl
SUMMARY:Gymclub
DESCRIPTION:
URL:https://www.onseigengebouw.nl/agenda/gymclub-11/
END:VEVENT
BEGIN:VEVENT
DTSTART;TZID=UTC:20240129T193000
DTEND;TZID=UTC:20240129T223000
DTSTAMP:20260422T113625
CREATED:20231023T195003Z
LAST-MODIFIED:20231023T195003Z
UID:1022-1706556600-1706567400@www.onseigengebouw.nl
SUMMARY:Schietclub
DESCRIPTION:
URL:https://www.onseigengebouw.nl/agenda/schietclub-4/
ATTACH;FMTTYPE=image/gif:https://www.onseigengebouw.nl/wp-content/uploads/2023/10/schutters.gif
END:VEVENT
END:VCALENDAR