BEGIN:VCALENDAR
VERSION:2.0
PRODID:-//Ons Eigen Gebouw Buurmalsen - ECPv6.0.3.1//NONSGML v1.0//EN
CALSCALE:GREGORIAN
METHOD:PUBLISH
X-ORIGINAL-URL:https://www.onseigengebouw.nl
X-WR-CALDESC:Evenementen voor Ons Eigen Gebouw Buurmalsen
REFRESH-INTERVAL;VALUE=DURATION:PT1H
X-Robots-Tag:noindex
X-PUBLISHED-TTL:PT1H
BEGIN:VTIMEZONE
TZID:UTC
BEGIN:STANDARD
TZOFFSETFROM:+0000
TZOFFSETTO:+0000
TZNAME:UTC
DTSTART:20240101T000000
END:STANDARD
END:VTIMEZONE
BEGIN:VEVENT
DTSTART;TZID=UTC:20240107T103000
DTEND;TZID=UTC:20240107T120000
DTSTAMP:20260422T113542
CREATED:20231205T082653Z
LAST-MODIFIED:20231205T082653Z
UID:1031-1704623400-1704628800@www.onseigengebouw.nl
SUMMARY:Nieuwjaarsreceptie RKK Buren
DESCRIPTION:
URL:https://www.onseigengebouw.nl/agenda/nieuwjaarsreceptie-rkk-buren/
END:VEVENT
BEGIN:VEVENT
DTSTART;TZID=UTC:20240107T143000
DTEND;TZID=UTC:20240107T170000
DTSTAMP:20260422T113542
CREATED:20231023T192324Z
LAST-MODIFIED:20231023T192324Z
UID:979-1704637800-1704646800@www.onseigengebouw.nl
SUMMARY:Nieuwjaarsconcert Triple B Bigband
DESCRIPTION:
URL:https://www.onseigengebouw.nl/agenda/nieuwjaarsconcert-triple-b-bigband/
ATTACH;FMTTYPE=image/png:https://www.onseigengebouw.nl/wp-content/uploads/2023/10/BBB.png
END:VEVENT
END:VCALENDAR