BEGIN:VCALENDAR
VERSION:2.0
PRODID:-//Ons Eigen Gebouw Buurmalsen - ECPv6.0.3.1//NONSGML v1.0//EN
CALSCALE:GREGORIAN
METHOD:PUBLISH
X-ORIGINAL-URL:https://www.onseigengebouw.nl
X-WR-CALDESC:Evenementen voor Ons Eigen Gebouw Buurmalsen
REFRESH-INTERVAL;VALUE=DURATION:PT1H
X-Robots-Tag:noindex
X-PUBLISHED-TTL:PT1H
BEGIN:VTIMEZONE
TZID:UTC
BEGIN:STANDARD
TZOFFSETFROM:+0000
TZOFFSETTO:+0000
TZNAME:UTC
DTSTART:20230101T000000
END:STANDARD
END:VTIMEZONE
BEGIN:VEVENT
DTSTART;TZID=UTC:20231210T140000
DTEND;TZID=UTC:20231210T180000
DTSTAMP:20260422T102421
CREATED:20231002T101814Z
LAST-MODIFIED:20231023T190432Z
UID:909-1702216800-1702231200@www.onseigengebouw.nl
SUMMARY:Repetitie smartlappenkoor
DESCRIPTION:
URL:https://www.onseigengebouw.nl/agenda/repetitie-smartlappenkoor-4/
ATTACH;FMTTYPE=image/jpeg:https://www.onseigengebouw.nl/wp-content/uploads/2019/03/losbandigsysteem.jpg
END:VEVENT
END:VCALENDAR