BEGIN:VCALENDAR
VERSION:2.0
PRODID:-//Ons Eigen Gebouw Buurmalsen - ECPv6.0.3.1//NONSGML v1.0//EN
CALSCALE:GREGORIAN
METHOD:PUBLISH
X-ORIGINAL-URL:https://www.onseigengebouw.nl
X-WR-CALDESC:Evenementen voor Ons Eigen Gebouw Buurmalsen
REFRESH-INTERVAL;VALUE=DURATION:PT1H
X-Robots-Tag:noindex
X-PUBLISHED-TTL:PT1H
BEGIN:VTIMEZONE
TZID:UTC
BEGIN:STANDARD
TZOFFSETFROM:+0000
TZOFFSETTO:+0000
TZNAME:UTC
DTSTART:20230101T000000
END:STANDARD
END:VTIMEZONE
BEGIN:VEVENT
DTSTART;VALUE=DATE:20231205
DTEND;VALUE=DATE:20231206
DTSTAMP:20260422T102421
CREATED:20231002T101612Z
LAST-MODIFIED:20231023T190530Z
UID:902-1701734400-1701820799@www.onseigengebouw.nl
SUMMARY:Sinterklaas
DESCRIPTION:
URL:https://www.onseigengebouw.nl/agenda/soos-bijeenkomst/
ATTACH;FMTTYPE=image/jpeg:https://www.onseigengebouw.nl/wp-content/uploads/2023/10/Sinterklaas.jpg
END:VEVENT
BEGIN:VEVENT
DTSTART;TZID=UTC:20231205T083000
DTEND;TZID=UTC:20231205T113000
DTSTAMP:20260422T102421
CREATED:20231205T082617Z
LAST-MODIFIED:20231205T082617Z
UID:1029-1701765000-1701775800@www.onseigengebouw.nl
SUMMARY:Gemeenteraad on tour
DESCRIPTION:
URL:https://www.onseigengebouw.nl/agenda/gemeenteraad-on-tour/
END:VEVENT
BEGIN:VEVENT
DTSTART;TZID=UTC:20231205T140000
DTEND;TZID=UTC:20231205T170000
DTSTAMP:20260422T102421
CREATED:20231023T192927Z
LAST-MODIFIED:20231023T192927Z
UID:986-1701784800-1701795600@www.onseigengebouw.nl
SUMMARY:Bijeenkomst Soos
DESCRIPTION:
URL:https://www.onseigengebouw.nl/agenda/bijeenkomst-soos-4/
END:VEVENT
END:VCALENDAR