BEGIN:VCALENDAR
VERSION:2.0
PRODID:-//Ons Eigen Gebouw Buurmalsen - ECPv6.0.3.1//NONSGML v1.0//EN
CALSCALE:GREGORIAN
METHOD:PUBLISH
X-ORIGINAL-URL:https://www.onseigengebouw.nl
X-WR-CALDESC:Evenementen voor Ons Eigen Gebouw Buurmalsen
REFRESH-INTERVAL;VALUE=DURATION:PT1H
X-Robots-Tag:noindex
X-PUBLISHED-TTL:PT1H
BEGIN:VTIMEZONE
TZID:UTC
BEGIN:STANDARD
TZOFFSETFROM:+0000
TZOFFSETTO:+0000
TZNAME:UTC
DTSTART:20230101T000000
END:STANDARD
END:VTIMEZONE
BEGIN:VEVENT
DTSTART;TZID=UTC:20231127T093000
DTEND;TZID=UTC:20231127T103000
DTSTAMP:20260422T091202
CREATED:20231002T103245Z
LAST-MODIFIED:20231002T103245Z
UID:952-1701077400-1701081000@www.onseigengebouw.nl
SUMMARY:Gymclub
DESCRIPTION:
URL:https://www.onseigengebouw.nl/agenda/gymclub-4/
END:VEVENT
BEGIN:VEVENT
DTSTART;TZID=UTC:20231127T200000
DTEND;TZID=UTC:20231127T223000
DTSTAMP:20260422T091202
CREATED:20231002T102934Z
LAST-MODIFIED:20231023T195148Z
UID:942-1701115200-1701124200@www.onseigengebouw.nl
SUMMARY:Schietclub wedstrijd Wadenoijen
DESCRIPTION:
URL:https://www.onseigengebouw.nl/agenda/schietclub-wedstrijd-wadenoijen/
ATTACH;FMTTYPE=image/gif:https://www.onseigengebouw.nl/wp-content/uploads/2023/10/schutters.gif
END:VEVENT
END:VCALENDAR