BEGIN:VCALENDAR
VERSION:2.0
PRODID:-//Ons Eigen Gebouw Buurmalsen - ECPv6.0.3.1//NONSGML v1.0//EN
CALSCALE:GREGORIAN
METHOD:PUBLISH
X-WR-CALNAME:Ons Eigen Gebouw Buurmalsen
X-ORIGINAL-URL:https://www.onseigengebouw.nl
X-WR-CALDESC:Evenementen voor Ons Eigen Gebouw Buurmalsen
REFRESH-INTERVAL;VALUE=DURATION:PT1H
X-Robots-Tag:noindex
X-PUBLISHED-TTL:PT1H
BEGIN:VTIMEZONE
TZID:UTC
BEGIN:STANDARD
TZOFFSETFROM:+0000
TZOFFSETTO:+0000
TZNAME:UTC
DTSTART:20230101T000000
END:STANDARD
END:VTIMEZONE
BEGIN:VEVENT
DTSTART;TZID=UTC:20231122T070000
DTEND;TZID=UTC:20231122T233000
DTSTAMP:20260422T091213
CREATED:20231002T102005Z
LAST-MODIFIED:20231023T191123Z
UID:914-1700636400-1700695800@www.onseigengebouw.nl
SUMMARY:Stembureau verkiezingen
DESCRIPTION:
URL:https://www.onseigengebouw.nl/agenda/stembureau-verkiezingen-2/
ATTACH;FMTTYPE=image/jpeg:https://www.onseigengebouw.nl/wp-content/uploads/2022/02/stembureau.jpg
END:VEVENT
BEGIN:VEVENT
DTSTART;TZID=UTC:20231122T100000
DTEND;TZID=UTC:20231122T120000
DTSTAMP:20260422T091213
CREATED:20231002T101848Z
LAST-MODIFIED:20231023T190708Z
UID:911-1700647200-1700654400@www.onseigengebouw.nl
SUMMARY:Koffie inloop ochtend
DESCRIPTION:
URL:https://www.onseigengebouw.nl/agenda/stembureau-verkiezingen/
ATTACH;FMTTYPE=image/jpeg:https://www.onseigengebouw.nl/wp-content/uploads/2019/05/koffie-OEG.jpg
END:VEVENT
END:VCALENDAR