BEGIN:VCALENDAR
VERSION:2.0
PRODID:-//Ons Eigen Gebouw Buurmalsen - ECPv6.0.3.1//NONSGML v1.0//EN
CALSCALE:GREGORIAN
METHOD:PUBLISH
X-WR-CALNAME:Ons Eigen Gebouw Buurmalsen
X-ORIGINAL-URL:https://www.onseigengebouw.nl
X-WR-CALDESC:Evenementen voor Ons Eigen Gebouw Buurmalsen
REFRESH-INTERVAL;VALUE=DURATION:PT1H
X-Robots-Tag:noindex
X-PUBLISHED-TTL:PT1H
BEGIN:VTIMEZONE
TZID:UTC
BEGIN:STANDARD
TZOFFSETFROM:+0000
TZOFFSETTO:+0000
TZNAME:UTC
DTSTART:20230101T000000
END:STANDARD
END:VTIMEZONE
BEGIN:VEVENT
DTSTART;TZID=UTC:20231118T143000
DTEND;TZID=UTC:20231118T170000
DTSTAMP:20260422T102408
CREATED:20230327T133928Z
LAST-MODIFIED:20231023T190830Z
UID:758-1700317800-1700326800@www.onseigengebouw.nl
SUMMARY:Sinterklaasintocht
DESCRIPTION:
URL:https://www.onseigengebouw.nl/agenda/sinterklaasintocht/
ATTACH;FMTTYPE=image/jpeg:https://www.onseigengebouw.nl/wp-content/uploads/2023/10/Sinterklaas.jpg
END:VEVENT
END:VCALENDAR