BEGIN:VCALENDAR
VERSION:2.0
PRODID:-//Ons Eigen Gebouw Buurmalsen - ECPv6.0.3.1//NONSGML v1.0//EN
CALSCALE:GREGORIAN
METHOD:PUBLISH
X-ORIGINAL-URL:https://www.onseigengebouw.nl
X-WR-CALDESC:Evenementen voor Ons Eigen Gebouw Buurmalsen
REFRESH-INTERVAL;VALUE=DURATION:PT1H
X-Robots-Tag:noindex
X-PUBLISHED-TTL:PT1H
BEGIN:VTIMEZONE
TZID:UTC
BEGIN:STANDARD
TZOFFSETFROM:+0000
TZOFFSETTO:+0000
TZNAME:UTC
DTSTART:20230101T000000
END:STANDARD
END:VTIMEZONE
BEGIN:VEVENT
DTSTART;TZID=UTC:20231106T093000
DTEND;TZID=UTC:20231106T103000
DTSTAMP:20260422T091210
CREATED:20231002T103151Z
LAST-MODIFIED:20231002T103151Z
UID:946-1699263000-1699266600@www.onseigengebouw.nl
SUMMARY:Gymclub
DESCRIPTION:
URL:https://www.onseigengebouw.nl/agenda/gymclub/
END:VEVENT
BEGIN:VEVENT
DTSTART;TZID=UTC:20231106T200000
DTEND;TZID=UTC:20231106T223000
DTSTAMP:20260422T091210
CREATED:20231002T102826Z
LAST-MODIFIED:20231023T195301Z
UID:938-1699300800-1699309800@www.onseigengebouw.nl
SUMMARY:Schietclub oefenavond
DESCRIPTION:
URL:https://www.onseigengebouw.nl/agenda/schietclub-oefenavond-2/
ATTACH;FMTTYPE=image/gif:https://www.onseigengebouw.nl/wp-content/uploads/2023/10/schutters.gif
END:VEVENT
END:VCALENDAR