BEGIN:VCALENDAR
VERSION:2.0
PRODID:-//Ons Eigen Gebouw Buurmalsen - ECPv6.0.3.1//NONSGML v1.0//EN
CALSCALE:GREGORIAN
METHOD:PUBLISH
X-ORIGINAL-URL:https://www.onseigengebouw.nl
X-WR-CALDESC:Evenementen voor Ons Eigen Gebouw Buurmalsen
REFRESH-INTERVAL;VALUE=DURATION:PT1H
X-Robots-Tag:noindex
X-PUBLISHED-TTL:PT1H
BEGIN:VTIMEZONE
TZID:UTC
BEGIN:STANDARD
TZOFFSETFROM:+0000
TZOFFSETTO:+0000
TZNAME:UTC
DTSTART:20230101T000000
END:STANDARD
END:VTIMEZONE
BEGIN:VEVENT
DTSTART;TZID=UTC:20231023T093000
DTEND;TZID=UTC:20231023T103000
DTSTAMP:20260422T080736
CREATED:20230703T152323Z
LAST-MODIFIED:20230703T152323Z
UID:842-1698053400-1698057000@www.onseigengebouw.nl
SUMMARY:Gymclub KeepFit
DESCRIPTION:
URL:https://www.onseigengebouw.nl/agenda/gymclub-keepfit-18/
END:VEVENT
BEGIN:VEVENT
DTSTART;TZID=UTC:20231023T193000
DTEND;TZID=UTC:20231023T220000
DTSTAMP:20260422T080736
CREATED:20231023T194511Z
LAST-MODIFIED:20231023T194511Z
UID:1009-1698089400-1698098400@www.onseigengebouw.nl
SUMMARY:Bridgeclub beginnerscursus
DESCRIPTION:
URL:https://www.onseigengebouw.nl/agenda/bridgeclub-beginnerscursus-10/
ATTACH;FMTTYPE=image/jpeg:https://www.onseigengebouw.nl/wp-content/uploads/2022/10/bridge.jpg
END:VEVENT
BEGIN:VEVENT
DTSTART;TZID=UTC:20231023T200000
DTEND;TZID=UTC:20231023T223000
DTSTAMP:20260422T080736
CREATED:20231002T102750Z
LAST-MODIFIED:20231002T102750Z
UID:936-1698091200-1698100200@www.onseigengebouw.nl
SUMMARY:Schietclub wedstrijd Ingen
DESCRIPTION:
URL:https://www.onseigengebouw.nl/agenda/schietclub-wedstrijd-ingen/
END:VEVENT
END:VCALENDAR