BEGIN:VCALENDAR
VERSION:2.0
PRODID:-//Ons Eigen Gebouw Buurmalsen - ECPv6.0.3.1//NONSGML v1.0//EN
CALSCALE:GREGORIAN
METHOD:PUBLISH
X-WR-CALNAME:Ons Eigen Gebouw Buurmalsen
X-ORIGINAL-URL:https://www.onseigengebouw.nl
X-WR-CALDESC:Evenementen voor Ons Eigen Gebouw Buurmalsen
REFRESH-INTERVAL;VALUE=DURATION:PT1H
X-Robots-Tag:noindex
X-PUBLISHED-TTL:PT1H
BEGIN:VTIMEZONE
TZID:UTC
BEGIN:STANDARD
TZOFFSETFROM:+0000
TZOFFSETTO:+0000
TZNAME:UTC
DTSTART:20230101T000000
END:STANDARD
END:VTIMEZONE
BEGIN:VEVENT
DTSTART;TZID=UTC:20231014T190000
DTEND;TZID=UTC:20231014T230000
DTSTAMP:20260422T080638
CREATED:20230703T150447Z
LAST-MODIFIED:20230703T150447Z
UID:792-1697310000-1697324400@www.onseigengebouw.nl
SUMMARY:Bingo Halloween vereniging Tricht - Buurmalsen
DESCRIPTION:
URL:https://www.onseigengebouw.nl/agenda/bingo-halloween-vereniging-tricht-buurmalsen/
END:VEVENT
END:VCALENDAR