BEGIN:VCALENDAR
VERSION:2.0
PRODID:-//Ons Eigen Gebouw Buurmalsen - ECPv6.0.3.1//NONSGML v1.0//EN
CALSCALE:GREGORIAN
METHOD:PUBLISH
X-ORIGINAL-URL:https://www.onseigengebouw.nl
X-WR-CALDESC:Evenementen voor Ons Eigen Gebouw Buurmalsen
REFRESH-INTERVAL;VALUE=DURATION:PT1H
X-Robots-Tag:noindex
X-PUBLISHED-TTL:PT1H
BEGIN:VTIMEZONE
TZID:UTC
BEGIN:STANDARD
TZOFFSETFROM:+0000
TZOFFSETTO:+0000
TZNAME:UTC
DTSTART:20230101T000000
END:STANDARD
END:VTIMEZONE
BEGIN:VEVENT
DTSTART;TZID=UTC:20230911T093000
DTEND;TZID=UTC:20230911T103000
DTSTAMP:20260422T091200
CREATED:20230703T150754Z
LAST-MODIFIED:20230703T150754Z
UID:800-1694424600-1694428200@www.onseigengebouw.nl
SUMMARY:Gymclub KeepFit
DESCRIPTION:
URL:https://www.onseigengebouw.nl/agenda/gymclub-keepfit-13/
END:VEVENT
END:VCALENDAR