BEGIN:VCALENDAR
VERSION:2.0
PRODID:-//Ons Eigen Gebouw Buurmalsen - ECPv6.0.3.1//NONSGML v1.0//EN
CALSCALE:GREGORIAN
METHOD:PUBLISH
X-ORIGINAL-URL:https://www.onseigengebouw.nl
X-WR-CALDESC:Evenementen voor Ons Eigen Gebouw Buurmalsen
REFRESH-INTERVAL;VALUE=DURATION:PT1H
X-Robots-Tag:noindex
X-PUBLISHED-TTL:PT1H
BEGIN:VTIMEZONE
TZID:UTC
BEGIN:STANDARD
TZOFFSETFROM:+0000
TZOFFSETTO:+0000
TZNAME:UTC
DTSTART:20230101T000000
END:STANDARD
END:VTIMEZONE
BEGIN:VEVENT
DTSTART;TZID=UTC:20230404T140000
DTEND;TZID=UTC:20230404T170000
DTSTAMP:20260422T153827
CREATED:20230112T190615Z
LAST-MODIFIED:20230112T190615Z
UID:626-1680616800-1680627600@www.onseigengebouw.nl
SUMMARY:Bijeenkomst ouderen soos
DESCRIPTION:Deze keer een bijeenkomst gezamenlijk met de sozen van Tricht\, Deil en Geldermalsen.
URL:https://www.onseigengebouw.nl/agenda/bijeenkomst-ouderen-soos-3/
END:VEVENT
END:VCALENDAR