BEGIN:VCALENDAR
VERSION:2.0
PRODID:-//Ons Eigen Gebouw Buurmalsen - ECPv6.0.3.1//NONSGML v1.0//EN
CALSCALE:GREGORIAN
METHOD:PUBLISH
X-WR-CALNAME:Ons Eigen Gebouw Buurmalsen
X-ORIGINAL-URL:https://www.onseigengebouw.nl
X-WR-CALDESC:Evenementen voor Ons Eigen Gebouw Buurmalsen
REFRESH-INTERVAL;VALUE=DURATION:PT1H
X-Robots-Tag:noindex
X-PUBLISHED-TTL:PT1H
BEGIN:VTIMEZONE
TZID:UTC
BEGIN:STANDARD
TZOFFSETFROM:+0000
TZOFFSETTO:+0000
TZNAME:UTC
DTSTART:20230101T000000
END:STANDARD
END:VTIMEZONE
BEGIN:VEVENT
DTSTART;TZID=UTC:20230403T080000
DTEND;TZID=UTC:20230403T170000
DTSTAMP:20260422T151945
CREATED:20230112T191032Z
LAST-MODIFIED:20230112T191032Z
UID:636-1680508800-1680541200@www.onseigengebouw.nl
SUMMARY:Proef-examens Ida Gerhardt Academie
DESCRIPTION:
URL:https://www.onseigengebouw.nl/agenda/proef-examens-ida-gerhardt-academie/
END:VEVENT
BEGIN:VEVENT
DTSTART;TZID=UTC:20230403T200000
DTEND;TZID=UTC:20230403T200000
DTSTAMP:20260422T151945
CREATED:20230327T132707Z
LAST-MODIFIED:20230327T132707Z
UID:710-1680552000-1680552000@www.onseigengebouw.nl
SUMMARY:Ledenvergadering Dorpshuis
DESCRIPTION:
URL:https://www.onseigengebouw.nl/agenda/ledenvergadering-dorpshuis/
END:VEVENT
BEGIN:VEVENT
DTSTART;TZID=UTC:20230403T210000
DTEND;TZID=UTC:20230403T210000
DTSTAMP:20260422T151945
CREATED:20230327T132736Z
LAST-MODIFIED:20230327T132736Z
UID:712-1680555600-1680555600@www.onseigengebouw.nl
SUMMARY:Bijeenkomst kernagenda
DESCRIPTION:
URL:https://www.onseigengebouw.nl/agenda/bijeenkomst-kernagenda/
END:VEVENT
END:VCALENDAR