BEGIN:VCALENDAR
VERSION:2.0
PRODID:-//Ons Eigen Gebouw Buurmalsen - ECPv6.0.3.1//NONSGML v1.0//EN
CALSCALE:GREGORIAN
METHOD:PUBLISH
X-ORIGINAL-URL:https://www.onseigengebouw.nl
X-WR-CALDESC:Evenementen voor Ons Eigen Gebouw Buurmalsen
REFRESH-INTERVAL;VALUE=DURATION:PT1H
X-Robots-Tag:noindex
X-PUBLISHED-TTL:PT1H
BEGIN:VTIMEZONE
TZID:UTC
BEGIN:STANDARD
TZOFFSETFROM:+0000
TZOFFSETTO:+0000
TZNAME:UTC
DTSTART:20230101T000000
END:STANDARD
END:VTIMEZONE
BEGIN:VEVENT
DTSTART;TZID=UTC:20230115T143000
DTEND;TZID=UTC:20230115T143000
DTSTAMP:20260422T193208
CREATED:20221109T150253Z
LAST-MODIFIED:20221110T081611Z
UID:515-1673793000-1673793000@www.onseigengebouw.nl
SUMMARY:Nieuwjaarsconcert Triple B Bigband
DESCRIPTION:
URL:https://www.onseigengebouw.nl/agenda/nieuwjarsconcert-triple-b-bigband/
END:VEVENT
END:VCALENDAR